BEGIN:VCALENDAR
VERSION:2.0
PRODID:-//ChamberMaster//Event Calendar 2.0//EN
METHOD:PUBLISH
X-PUBLISHED-TTL:P3D
REFRESH-INTERVAL:P3D
CALSCALE:GREGORIAN
BEGIN:VEVENT
DTSTART:20130505T010000Z
DTEND:20130505T060000Z
X-MICROSOFT-CDO-ALLDAYEVENT:FALSE
SUMMARY:Relay for Life fundraiser and karaoke
DESCRIPTION:Relay for Life will be holding a fundraising event starting at 9pm Karaoke Plus will begin it's regular Saturday night at 10pm Blackboard Drink Specials start at 8pm
X-ALT-DESC;FMTTYPE=text/html:Relay for Life will be holding a fundraising event starting at 9pm Karaoke Plus will begin it&#39\;s regular Saturday night at 10pm Blackboard Drink Specials start at 8pm
LOCATION:The Ibis Lounge 200 Crandon Blvd Key Biscayne\, Fl 33149
UID:e.330.3900
SEQUENCE:3
DTSTAMP:20260420T061729Z
URL:https://business.keybiscaynechamber.org/events/details/relay-for-life-fundraiser-and-karaoke-05-04-2013-3900
END:VEVENT

END:VCALENDAR
