BEGIN:VCALENDAR
VERSION:2.0
PRODID:-//ChamberMaster//Event Calendar 2.0//EN
METHOD:PUBLISH
X-PUBLISHED-TTL:P3D
REFRESH-INTERVAL:P3D
CALSCALE:GREGORIAN
BEGIN:VEVENT
DTSTART:20260113T233000Z
DTEND:20260114T033000Z
X-MICROSOFT-CDO-ALLDAYEVENT:FALSE
SUMMARY:Regular Council Meeting
DESCRIPTION:This meeting is open to the public.\n\nView MEETING AGENDA \n\n \n\nTO WATCH OR LISTEN TO THE PUBLIC MEETING \n\n\n	Watch Council Meetings on TV: CLICK HERE to learn more\n	Watch the meeting on your computer/mobile device: CLICK HERE
X-ALT-DESC;FMTTYPE=text/html:<p><br />\n<br />\n<span style="color: rgb(26\, 26\, 26)\; font-family: Inter\, sans-serif\; font-size: 16px\;">This meeting is open to the public.</span></p>\n\n<p><span style="color: rgb(26\, 26\, 26)\; font-family: Inter\, sans-serif\; font-size: 16px\;">View <a href="https://granicus_production_attachments.s3.amazonaws.com/keybiscayne/f574f187ca0c3cc8b5f91950f6b76cf60.pdf">MEETING AGENDA</a>&nbsp\;</span><br style="box-sizing: border-box\; color: rgb(26\, 26\, 26)\; font-family: Inter\, sans-serif\; font-size: 16px\;" />\n<span style="color: rgb(26\, 26\, 26)\; font-family: Inter\, sans-serif\; font-size: 16px\;">&nbsp\;</span></p>\n\n<p data-end="220" data-start="56" style="box-sizing: border-box\; margin: 0px 0px 20px\; color: rgb(26\, 26\, 26)\; font-family: Inter\, sans-serif\; font-size: 16px\;"><span style="box-sizing: border-box\; font-weight: bolder\;">TO WATCH OR LISTEN TO THE PUBLIC MEETING&nbsp\;</span></p>\n\n<ul style="box-sizing: border-box\; margin-top: 0px\; margin-bottom: 20px\; color: rgb(26\, 26\, 26)\; font-family: Inter\, sans-serif\; font-size: 16px\; margin-left: 10px\; list-style-position: initial\; list-style-image: initial\;">\n	<li style="box-sizing: border-box\; margin: 0px 0px 7px\; line-height: 1.3\;">Watch Council Meetings on TV:&nbsp\;<a href="https://keybiscayne.fl.gov/government/village_tv.php" style="box-sizing: border-box\; background-color: transparent\; color: rgb(30\, 62\, 171)\; text-decoration-line: none\; overflow-wrap: break-word\; transition: background 0.3s ease 0s\;">CLICK HERE</a>&nbsp\;to learn more</li>\n	<li style="box-sizing: border-box\; margin: 0px 0px 7px\; line-height: 1.3\;"><span style="box-sizing: border-box\;">Watch the meeting on your computer/mobile device:&nbsp\;<a href="https://keybiscayne.granicus.com/MediaPlayer.php?publish_id=309" style="box-sizing: border-box\; background-color: transparent\; color: rgb(30\, 62\, 171)\; text-decoration-line: none\; overflow-wrap: break-word\; transition: background 0.3s ease 0s\;" target="_blank">CLICK HERE</a></span></li>\n</ul>\n
LOCATION:Village Council Chamber (Rear of Fire Station)
UID:e.330.23313
SEQUENCE:3
DTSTAMP:20260424T193606Z
URL:https://business.keybiscaynechamber.org/events/details/regular-council-meeting-23313
END:VEVENT

END:VCALENDAR
