BEGIN:VCALENDAR
VERSION:2.0
PRODID:-//ChamberMaster//Event Calendar 2.0//EN
METHOD:PUBLISH
X-PUBLISHED-TTL:P3D
REFRESH-INTERVAL:P3D
CALSCALE:GREGORIAN
BEGIN:VEVENT
DTSTART;VALUE=DATE:20110331
DTEND;VALUE=DATE:20110405
TRANSP:TRANSPARENT
X-MICROSOFT-CDO-ALLDAYEVENT:TRUE
SUMMARY:Ready4 Best of Britain & The Golden Hog Promotion
DESCRIPTION:15% Discount for the Launch of the Award Winning Welsh Patchwork Pate at The Golden Hog!\n\n\n\nReady4 Best of Britain is delighted to announce the launching of their award-winning Patchwork Pates from Wales at The Golden Hog on Key Biscayne! Come and try one\, or all\, of three fabulous pate's\, Tequila and Cranberry\, Brandy and Herb or Mushroom and Garlic. \n\n\n\nPlease call in and receive a 15% discount off your entire purchase from the Golden Hog. The offer is good only during the Sony Ericsson Open. Only one discounted purchase per person through April 3. Print the attached or mention Ready4's launch promotion. \n\nPlease mention 'Ready4 Pate' at the checkout for your discount. \n\nLlanllyr Source spring water and Halen Mon flavored Sea Salts will also be available for purchase at The Golden Hog as of next month. \n\n \n\nFor more information: \n\nphone: (786) 457-9353\n\nemail: justin@ready4.com\n\nwebsite: http://www.ready4.com\n\n \n\n \n\nHot Deal Offer Expires: April 3 2011
X-ALT-DESC;FMTTYPE=text/html:15% Discount for the Launch of the Award Winning Welsh Patchwork Pate at The Golden Hog!\n<br>\n<br>Ready4 Best of Britain is delighted to announce the launching of their award-winning Patchwork Pates from Wales at The Golden Hog on Key Biscayne! Come and try one\, or all\, of three fabulous pate's\, Tequila and Cranberry\, Brandy and Herb or Mushroom and Garlic. \n<br>\n<br>Please call in and receive a 15% discount off your entire purchase from the Golden Hog. The offer is good only during the Sony Ericsson Open. Only one discounted purchase per person through April 3. Print the attached or mention Ready4's launch promotion. \n<br>Please mention 'Ready4 Pate' at the checkout for your discount. \n<br>Llanllyr Source spring water and Halen Mon flavored Sea Salts will also be available for purchase at The Golden Hog as of next month. \n<br> \n<br>For more information: \n<br>phone: (786) 457-9353\n<br>email: justin@ready4.com\n<br>website: http://www.ready4.com\n<br> \n<br> \n<br>Hot Deal Offer Expires: April 3 2011\n<br> \n<br>
LOCATION:The Golden Hog Fine Foods Market 91 Harbor Drive\, Key Biscayne\, FL 33149
UID:e.330.3333
SEQUENCE:3
DTSTAMP:20260421T190012Z
URL:https://business.keybiscaynechamber.org/events/details/ready4-best-of-britain-the-golden-hog-promotion-03-31-2011-3333
END:VEVENT

END:VCALENDAR
