BEGIN:VCALENDAR
VERSION:2.0
PRODID:-//ChamberMaster//Event Calendar 2.0//EN
METHOD:PUBLISH
X-PUBLISHED-TTL:P3D
REFRESH-INTERVAL:P3D
CALSCALE:GREGORIAN
BEGIN:VEVENT
DTSTART:20260125T020000Z
DTEND:20260125T030000Z
X-MICROSOFT-CDO-ALLDAYEVENT:FALSE
SUMMARY:Rain Barrel Workshop
DESCRIPTION:Miami-Dade Parks\, Recreation and Open Spaces\, in partnership with Commissioner Raquel Regalado\, invites you to attend a Rain Barrel Workshop designed to help residents conserve water and manage stormwater at home.\n\nDuring this information session\, participants will learn:\n\n\n	How rain barrels work and why they matter\n	Practical tips for water conservation\n	How rain barrels help reduce storm water runoff and protect our environmen\n\n\n  Who Can Participate:\n\nKey Biscayne residents interested in the program will be able to receive a free rain barrel.\n\n\n\n  Registration Required.\n\nRegister here\n\n\n\nWe look forward to seeing you there and working together toward a more sustainable community.\n\n\n\nCommissioner Raquel A. Regalado\n\nMiami-Dade County\, District 7
X-ALT-DESC;FMTTYPE=text/html:&nbsp\;\n<p style="margin: 1em 0px\; caret-color: rgb(0\, 0\, 0)\; color: rgb(0\, 0\, 0)\; font-family: arial\, helvetica\, sans-serif\; font-size: 16px\; text-size-adjust: auto\;">Miami-Dade Parks\, Recreation and Open Spaces\, in partnership with <b>Commissioner Raquel Regalado</b>\, invites you to attend a <b>Rain Barrel Workshop</b> designed to help residents conserve water and manage stormwater at home.</p>\n\n<p style="margin: 1em 0px\; caret-color: rgb(0\, 0\, 0)\; color: rgb(0\, 0\, 0)\; font-family: arial\, helvetica\, sans-serif\; font-size: 16px\; text-size-adjust: auto\;">During this information session\, participants will learn:</p>\n\n<ul style="caret-color: rgb(0\, 0\, 0)\; color: rgb(0\, 0\, 0)\; font-family: arial\, helvetica\, sans-serif\; font-size: 16px\; text-size-adjust: auto\;">\n	<li>How rain barrels work and why they matter</li>\n	<li>Practical tips for water conservation</li>\n	<li>How rain barrels help reduce storm water runoff and protect our environmen</li>\n</ul>\n\n<p style="margin: 1em 0px\; caret-color: rgb(0\, 0\, 0)\; color: rgb(0\, 0\, 0)\; font-family: arial\, helvetica\, sans-serif\; font-size: 16px\; text-size-adjust: auto\;">&#128101\;&nbsp\;<b>Who Can Participate:</b><br />\nKey Biscayne residents interested in the program will be able to receive a free rain barrel.<br />\n<br />\n&#128073\;&nbsp\;Registration Required.<br />\nRegister&nbsp\;<a data-linkto="https://" href="https://click.info.miamidade.gov/?qs=fe8d650b3928953f53fa274bcd944a1d890c462a38ab794ab9a217f5e4eb6b88b03e6a60e18a9bca652d9892c4f8d981301bc317b4947c29" style="color: rgb(127\, 0\, 255)\;" title="here">here</a><br />\n<br />\nWe look forward to seeing you there and working together toward a more sustainable community.<br />\n<br />\n<b style="caret-color: rgb(0\, 0\, 0)\; color: rgb(0\, 0\, 0)\; font-family: arial\, helvetica\, sans-serif\; font-size: 16px\; text-size-adjust: auto\;">Commissioner Raquel A. Regalado</b><br style="caret-color: rgb(0\, 0\, 0)\; color: rgb(0\, 0\, 0)\; font-family: arial\, helvetica\, sans-serif\; font-size: 16px\; text-size-adjust: auto\;" />\n<i style="caret-color: rgb(0\, 0\, 0)\; color: rgb(0\, 0\, 0)\; font-family: arial\, helvetica\, sans-serif\; font-size: 16px\; text-size-adjust: auto\;">Miami-Dade County\, District 7</i></p>\n
LOCATION:Key Biscayne Community Center
UID:e.330.23327
SEQUENCE:3
DTSTAMP:20260424T210742Z
URL:https://business.keybiscaynechamber.org/events/details/rain-barrel-workshop-23327
END:VEVENT

END:VCALENDAR
