BEGIN:VCALENDAR
VERSION:2.0
PRODID:-//ChamberMaster//Event Calendar 2.0//EN
METHOD:PUBLISH
X-PUBLISHED-TTL:P3D
REFRESH-INTERVAL:P3D
CALSCALE:GREGORIAN
BEGIN:VEVENT
DTSTART:20120602T230000Z
DTEND:20120603T030000Z
X-MICROSOFT-CDO-ALLDAYEVENT:FALSE
SUMMARY:Queen's Diamond Jubilee Gala Dinner & Dance
DESCRIPTION:On the occasion of the Diamond Jubilee of H.M. Queen Elizabeth II you are cordially invited to  attend a Gala Dinner & Dance at The Conrad Ballroom.
X-ALT-DESC;FMTTYPE=text/html:<p>\n	<span style="font-size: 14px"><span style="font-family: times new roman">On the occasion of the Diamond Jubilee of H.M. Queen Elizabeth II you are cordially invited to&nbsp\; attend a Gala Dinner &amp\; Dance at The Conrad Ballroom.</span></span></p>\n
LOCATION:Conrad Ballroom\, Conrad Hotel\, 1395 Brickell Avenue\, Miami\, FL 33131
UID:e.330.3696
SEQUENCE:3
DTSTAMP:20260420T235048Z
URL:https://business.keybiscaynechamber.org/events/details/queen-s-diamond-jubilee-gala-dinner-dance-06-02-2012-3696
END:VEVENT

END:VCALENDAR
