BEGIN:VCALENDAR
VERSION:2.0
PRODID:-//ChamberMaster//Event Calendar 2.0//EN
METHOD:PUBLISH
X-PUBLISHED-TTL:P3D
REFRESH-INTERVAL:P3D
CALSCALE:GREGORIAN
BEGIN:VEVENT
DTSTART:20251012T160000Z
DTEND:20251012T160000Z
X-MICROSOFT-CDO-ALLDAYEVENT:FALSE
SUMMARY:Pups & Pinot at Vinya
DESCRIPTION:Vinya's 3rd Annual Pups & Pinot is back! Enjoy a Sunday afternoon with free-flowing Pinot alongside your favorite four-legged companion. What to expect? Generous pours\, a relaxed island atmosphere\, a pop-up dog park with toys\, and complimentary wholesome food for pups provided by our friends at Petchefy.\n\n\n\nThe Details \n\n-$35 per person *Includes tax and gratuity \n\n-Sunday | October 12th | 1pm-4pm\n\n-Vinya Key Biscayne *Outdoor terrace area\n\n-Taste seven expressions of Pinot\, self-serve style\n\n-Featuring: Alsace Pinot Blanc\, Alto Adige Pinot Bianco\, Friuli Pinot Grigio\, Sparkling Pinot Meunier\, Bourgogne Rouge\, Santa Barbara Pinot Noir\, Mendoza Pinot Noir.\n\n-Plus: a bonus\, mystery wine from our cellar!\n\n-Bring along your furry friends\n\n-Complimentary pet food courtesy of Petchefy\n\n-Complimentary Jam n sandwiches *Vegetarian option available \n\n-15% OFF all retail wines to-go\, plus earn your 3% back in Cru points
X-ALT-DESC;FMTTYPE=text/html:<br />\n<br />\n<span style="font-size:16px\;">Vinya&#39\;s 3rd Annual Pups &amp\; Pinot is back! Enjoy a Sunday afternoon with free-flowing Pinot alongside your favorite four-legged companion. What to expect? Generous pours\, a relaxed island atmosphere\, a pop-up dog park with toys\, and complimentary wholesome food for pups provided by our friends at&nbsp\;<em style="box-sizing:inherit\;">Petchefy.</em><br />\n<br />\n<strong style="box-sizing:inherit\;"><span style="box-sizing:inherit\;"><span style="font-family:aptos\,sans-serif\;">The Details&nbsp\;</span></span></strong><br style="box-sizing:inherit\;" />\n<span style="box-sizing:inherit\;"><span style="font-family:aptos\,sans-serif\;"><span style="box-sizing:inherit\;"><span style="font-family:calibri\,sans-serif\;">-$35 per person&nbsp\;<em style="box-sizing:inherit\;">*Includes tax and gratuity&nbsp\;</em><br style="box-sizing:inherit\;" />\n-Sunday | October 12<sup style="box-sizing:inherit\;">th</sup>&nbsp\;| 1pm-4pm<br style="box-sizing:inherit\;" />\n-Vinya Key Biscayne&nbsp\;<em style="box-sizing:inherit\;">*Outdoor terrace area</em><br style="box-sizing:inherit\;" />\n-Taste seven expressions of Pinot<em style="box-sizing:inherit\;">\, self-serve style</em><br style="box-sizing:inherit\;" />\n-Featuring:&nbsp\;<em style="box-sizing:inherit\;">Alsace Pinot Blanc\, Alto Adige Pinot Bianco\, Friuli Pinot Grigio\, Sparkling Pinot Meunier\, Bourgogne Rouge\, Santa Barbara Pinot Noir\, Mendoza Pinot Noir.</em><br style="box-sizing:inherit\;" />\n-Plus: a bonus\, mystery wine from our cellar!<br style="box-sizing:inherit\;" />\n-Bring along your furry friends<br style="box-sizing:inherit\;" />\n-Complimentary pet food courtesy of&nbsp\;<em style="box-sizing:inherit\;">Petchefy</em><br style="box-sizing:inherit\;" />\n-Complimentary Jam&oacute\;n sandwiches&nbsp\;<em style="box-sizing:inherit\;">*Vegetarian option available&nbsp\;</em><br style="box-sizing:inherit\;" />\n-15% OFF all retail wines to-go\, plus earn your 3% back in Cru points</span></span></span></span></span><br />\n&nbsp\;
LOCATION:Vinya Wine & Market
UID:e.330.23229
SEQUENCE:3
DTSTAMP:20260424T211828Z
URL:https://business.keybiscaynechamber.org/events/details/pups-pinot-at-vinya-23229
END:VEVENT

END:VCALENDAR
