BEGIN:VCALENDAR
VERSION:2.0
PRODID:-//ChamberMaster//Event Calendar 2.0//EN
METHOD:PUBLISH
X-PUBLISHED-TTL:P3D
REFRESH-INTERVAL:P3D
CALSCALE:GREGORIAN
BEGIN:VEVENT
DTSTART:20110302T173000Z
DTEND:20110302T193000Z
X-MICROSOFT-CDO-ALLDAYEVENT:FALSE
SUMMARY:Progressive Open House
DESCRIPTION:Key Biscayne realtors are holding a progessive open house on Galen Drive on Wednesday March 2 from 12.30 to 2.30pm.\n	\n		Each building with units open will have an open house sign on the swale. Lunch and desserts will be served. This is the first of a series of area open houses featuring the diverse neighborhoods of Key Biscayne.
X-ALT-DESC;FMTTYPE=text/html:<div class="_mcePaste" id="_mcePaste" style="display: inline">\n	<div _mce_style="font-family: Arial\, Helvetica\, sans-serif\; color: #000000\; font-size: 10pt\;" style="font-family: arial\, helvetica\, sans-serif\; color: #000000\; font-size: 10pt">\n		<span style="font-size: 12px"><span style="font-family: arial"><span _mce_style="font-family: 'Arial'\, 'sans-serif'\;">Key Biscayne realtors are holding a progessive open house on Galen Drive on Wednesday <strong>March 2 from 12.30 to 2.30pm.</strong></span></span></span></div>\n	<div _mce_style="font-family: Arial\, Helvetica\, sans-serif\; color: #000000\; font-size: 10pt\;" style="font-family: arial\, helvetica\, sans-serif\; color: #000000\; font-size: 10pt">\n		<span style="font-size: 12px"><span style="font-family: arial"><span>Each building with units open will have an open house sign on the swale. Lunch and desserts will be served. This is the first of a series of area open houses featuring the diverse neighborhoods of Key Biscayne.</span></span></span></div>\n</div>\n
LOCATION:Galen Drive
UID:e.330.3087
SEQUENCE:3
DTSTAMP:20260421T201720Z
URL:https://business.keybiscaynechamber.org/events/details/progressive-open-house-03-02-2011-3087
END:VEVENT

END:VCALENDAR
