BEGIN:VCALENDAR
VERSION:2.0
PRODID:-//ChamberMaster//Event Calendar 2.0//EN
METHOD:PUBLISH
X-PUBLISHED-TTL:P3D
REFRESH-INTERVAL:P3D
CALSCALE:GREGORIAN
BEGIN:VEVENT
DTSTART:20131112T190000Z
DTEND:20131112T210000Z
X-MICROSOFT-CDO-ALLDAYEVENT:FALSE
SUMMARY:Port Miami Tour
DESCRIPTION:Join special guest Governor Rick Scott and Florida Chamber of Commerce President Mark Wilson as we experience a behind the scenes tour of PortMiami\, discuss the Post-Panamax era ships and get an update on PortMiami's 2 million investment plan\, gearing up for the super-sized cargo vessels setting sail in 2015.\n\n\n\nTo register visit coralgableschamber.org\n\nIf you'd like to take the complimentary Village Bus\, email the Chamber at info@keybiscaynechamber.org
X-ALT-DESC;FMTTYPE=text/html:Join special guest Governor Rick Scott and Florida Chamber of Commerce President Mark Wilson as we experience a behind the scenes tour of PortMiami\, discuss the Post-Panamax era ships and get an update on PortMiami&#39\;s 2 million investment plan\, gearing up for the super-sized cargo vessels setting sail in 2015.<br />\n<br />\nTo register visit <a href="http://coralgableschamber.org/">coralgableschamber.org</a><br />\nIf you&#39\;d like to take the complimentary Village Bus\, email the Chamber at info@keybiscaynechamber.org &nbsp\; &nbsp\; &nbsp\; 
LOCATION:PortMiami 1015 N. American Way Cruise Terminal J
UID:e.330.4017
SEQUENCE:3
DTSTAMP:20260419T204006Z
URL:https://business.keybiscaynechamber.org/events/details/port-miami-tour-11-12-2013-4017
END:VEVENT

END:VCALENDAR
