BEGIN:VCALENDAR
VERSION:2.0
PRODID:-//ChamberMaster//Event Calendar 2.0//EN
METHOD:PUBLISH
X-PUBLISHED-TTL:P3D
REFRESH-INTERVAL:P3D
CALSCALE:GREGORIAN
BEGIN:VEVENT
DTSTART:20260130T231500Z
DTEND:20260131T010000Z
X-MICROSOFT-CDO-ALLDAYEVENT:FALSE
SUMMARY:Pet Shabbat at the Center for Jewish Life at Beth David
DESCRIPTION:Join us for a tail-wagging Shabbat experience featuring pet blessings\, custom pet portraits by 'Portraits by Jacqueline'\, and special treats provided by Wags Veterinary. Bring your furry (or scaly!) friend and celebrate Shabbat with us!
X-ALT-DESC;FMTTYPE=text/html:<br />\n<br />\n<span style="font-size:18px\;">Join us for a tail-wagging Shabbat experience featuring pet blessings\, custom pet portraits by &#39\;Portraits by Jacqueline&#39\;\, and special treats provided by Wags Veterinary. Bring your furry (or scaly!) friend and celebrate Shabbat with us!</span>
LOCATION:Center for Jewish Life at Beth David
UID:e.330.23317
SEQUENCE:3
DTSTAMP:20260424T194018Z
URL:https://business.keybiscaynechamber.org/events/details/pet-shabbat-at-the-center-for-jewish-life-at-beth-david-23317
END:VEVENT

END:VCALENDAR
