BEGIN:VCALENDAR
VERSION:2.0
PRODID:-//ChamberMaster//Event Calendar 2.0//EN
METHOD:PUBLISH
X-PUBLISHED-TTL:P3D
REFRESH-INTERVAL:P3D
CALSCALE:GREGORIAN
BEGIN:VEVENT
DTSTART:20121230T190000Z
DTEND:20121230T220000Z
X-MICROSOFT-CDO-ALLDAYEVENT:FALSE
SUMMARY:PERRIER JOET CHAMPAGNE TASTING
DESCRIPTION:SAMPLE ONE OF THE BEST CHAMPAGNE'S FROM REIMS!
X-ALT-DESC;FMTTYPE=text/html:SAMPLE ONE OF THE BEST CHAMPAGNE&#39\;S FROM REIMS!
LOCATION:STEFANO'S WINE & LIQUOR AT THE GALLERIA MALL
UID:e.330.3834
SEQUENCE:3
DTSTAMP:20260420T145331Z
URL:https://business.keybiscaynechamber.org/events/details/perrier-joet-champagne-tasting-12-30-2012-3834
END:VEVENT

END:VCALENDAR
