BEGIN:VCALENDAR
VERSION:2.0
PRODID:-//ChamberMaster//Event Calendar 2.0//EN
METHOD:PUBLISH
X-PUBLISHED-TTL:P3D
REFRESH-INTERVAL:P3D
CALSCALE:GREGORIAN
BEGIN:VEVENT
DTSTART:20120118T223000Z
DTEND:20120119T010000Z
X-MICROSOFT-CDO-ALLDAYEVENT:FALSE
SUMMARY:Past\, Present and Future of Florida's Coastal Zones
DESCRIPTION:How can we prepare for the projected sea level rise? How can we be ready for oil spills\, expanded shoreline development and offshore oil exploration\, all of which impact our valuable coastal zone. Florida's coasts are new\, less than 10\,000 years old\, when melting glaciers began to flood our limestone platform. During the continued rising sea level\, a wide range of unique coastal features developed. Barrier islands\, tidal inlets\, coral reefs\, lagoons and dunes making the Sunshine State's coasts the most varied of any American state. Join Dr. Miles Hayes who has researched the sedimentary processes and resulting landscapes of Florida's coasts for decades\, as he shares his perspective on the history and future of Florida's amazing coastlines.
X-ALT-DESC;FMTTYPE=text/html:<span style="background: #fafafa"><span style="font-size: 10pt"><span style="color: black"><span style="font-family: lucida sans unicode\, sans-serif">How can we prepare for the projected sea level rise? How can we be ready for oil spills\, expanded shoreline development and offshore oil exploration\, all of which impact our valuable coastal zone. Florida&rsquo\;s coasts are new\, less than 10\,000 years old\, when melting glaciers began to flood our limestone platform. During the continued rising sea level\, a wide range of unique coastal features developed. Barrier islands\, tidal inlets\, coral reefs\, lagoons and dunes making the Sunshine State&rsquo\;s coasts the most varied of any American state. Join Dr. Miles Hayes who has researched the sedimentary processes and resulting landscapes of Florida&rsquo\;s coasts for decades\, as he shares his perspective on the history and future of Florida&rsquo\;s amazing coastlines.</span></span></span></span><br />\n&nbsp\;
LOCATION:Rosenstiel School Auditorium University of Miami 4600 Rickenbacker Causeway Virginia Key\, FL 33149
UID:e.330.3576
SEQUENCE:3
DTSTAMP:20260421T061300Z
URL:https://business.keybiscaynechamber.org/events/details/past-present-and-future-of-florida-s-coastal-zones-01-18-2012-3576
END:VEVENT

END:VCALENDAR
