BEGIN:VCALENDAR
VERSION:2.0
PRODID:-//ChamberMaster//Event Calendar 2.0//EN
METHOD:PUBLISH
X-PUBLISHED-TTL:P3D
REFRESH-INTERVAL:P3D
CALSCALE:GREGORIAN
BEGIN:VEVENT
DTSTART;VALUE=DATE:20110328
DTEND;VALUE=DATE:20110329
TRANSP:TRANSPARENT
X-MICROSOFT-CDO-ALLDAYEVENT:TRUE
SUMMARY:Parenting Adolescents and Young Adults
DESCRIPTION:"Parenting Adolescents and Young Adults" 4 Week Group March 21\, 28\, April 4\, 11th \n\n	 \n\n	All parents must negotiate this difficult task. This group helps parents talk about their feelings\, frustration\, uncertainty\, helplessness\, etc.\,the great desire to keep their kids safe\, while letting them grow into the independent adults they need to become.\n\n	 \n\n	Also welcome are step parents\, grandparents\, aunts\, uncles etc.-anyone connected to or concerned with a teen or young adult.\n\n	 \n\n	Led by Robin Raina Benjamin\, PsyA\, LCSW\n\n	 \n\n	robinraina@aol.com www.robinrainabenjamin.com\n\n	 \n\n	For more details and to register\, please call 305 586 6755
X-ALT-DESC;FMTTYPE=text/html:<p class="MsoNormal" style="margin: 0in 0in 0pt">\n	<span style="font-size: 12px"><span style="font-family: arial"><span style="color: black">&quot\;Parenting Adolescents and Young Adults&quot\; 4 Week Group March 21\, 28\, April 4\, 11th </span></span></span></p>\n<p class="MsoNormal" style="margin: 0in 0in 0pt">\n	<span style="font-size: 12px"><span style="font-family: arial"><span style="color: black">&nbsp\;</span></span></span></p>\n<p class="MsoNormal" style="margin: 0in 0in 0pt">\n	<span style="font-size: 12px"><span style="font-family: arial"><span style="color: black">All parents must negotiate this difficult task. This group helps parents talk about their feelings\, frustration\, uncertainty\, helplessness\, etc.\,the great desire to keep their kids safe\, while letting them grow into the independent adults they need to become.</span></span></span></p>\n<p class="MsoNormal" style="margin: 0in 0in 0pt">\n	<span style="font-size: 12px">&nbsp\;</span></p>\n<p class="MsoNormal" style="margin: 0in 0in 0pt">\n	<span style="font-size: 12px"><span style="font-family: arial"><span style="color: black">Also welcome are step parents\, grandparents\, aunts\, uncles etc.-anyone connected to or concerned with a teen or young adult.</span></span></span></p>\n<p class="MsoNormal" style="margin: 0in 0in 0pt">\n	<span style="font-size: 12px">&nbsp\;</span></p>\n<p class="MsoNormal" style="margin: 0in 0in 0pt">\n	<span style="font-size: 12px"><span style="font-family: arial"><span style="color: black">Led by Robin Raina Benjamin\, PsyA\, LCSW</span></span></span></p>\n<p class="MsoNormal" style="margin: 0in 0in 0pt">\n	&nbsp\;</p>\n<p class="MsoNormal" style="margin: 0in 0in 0pt">\n	<span style="font-size: 12px"><span style="font-family: arial"><span style="color: black"><a href="mailto:robinraina@aol.com">robinraina@aol.com</a> <a href="http://www.robinrainabenjamin.com">www.robinrainabenjamin.com</a></span></span></span></p>\n<p class="MsoNormal" style="margin: 0in 0in 0pt">\n	<span style="font-size: 12px"><span style="font-family: arial"><span style="color: black">&nbsp\;</span></span></span></p>\n<p class="MsoNormal" style="margin: 0in 0in 0pt">\n	<span style="font-family: 'arial'\, 'sans-serif'\; color: black\; font-size: 10pt">For more details and to register\, please call 305 586 6755</span></p>\n
LOCATION:
UID:e.330.3321
SEQUENCE:3
DTSTAMP:20260421T202233Z
URL:https://business.keybiscaynechamber.org/events/details/parenting-adolescents-and-young-adults-03-28-2011-3321
END:VEVENT

END:VCALENDAR
