BEGIN:VCALENDAR
VERSION:2.0
PRODID:-//ChamberMaster//Event Calendar 2.0//EN
METHOD:PUBLISH
X-PUBLISHED-TTL:P3D
REFRESH-INTERVAL:P3D
CALSCALE:GREGORIAN
BEGIN:VEVENT
DTSTART:20130216T123000Z
DTEND:20130216T163000Z
X-MICROSOFT-CDO-ALLDAYEVENT:FALSE
SUMMARY:Pancake Breakfast
DESCRIPTION:The Key Biscayne Lions Club invites you to the annual\n\n\n\n             Pancake Breakfast\n\n\n\n     Music Provided/Tickets on sale at the door
X-ALT-DESC;FMTTYPE=text/html:The Key Biscayne Lions Club invites you to the annual<br />\n<br />\n<span style="font-size: 16px"><span style="color: #6633cc">&nbsp\;&nbsp\;&nbsp\;&nbsp\;&nbsp\;&nbsp\;&nbsp\;&nbsp\;&nbsp\;&nbsp\;&nbsp\;&nbsp\; Pancake Breakfast</span><br />\n<br />\n<span style="font-size: 12px">&nbsp\;&nbsp\;&nbsp\; &nbsp\;Music Provided/Tickets on sale at the door</span></span>
LOCATION:Key Biscayne Beach Club 685 Ocean Drive Key Biscayne\, FL
UID:e.330.3843
SEQUENCE:3
DTSTAMP:20260420T104042Z
URL:https://business.keybiscaynechamber.org/events/details/pancake-breakfast-02-16-2013-3843
END:VEVENT

END:VCALENDAR
