BEGIN:VCALENDAR
VERSION:2.0
PRODID:-//ChamberMaster//Event Calendar 2.0//EN
METHOD:PUBLISH
X-PUBLISHED-TTL:P3D
REFRESH-INTERVAL:P3D
CALSCALE:GREGORIAN
BEGIN:VEVENT
DTSTART:20140413T140000Z
DTEND:20140413T151500Z
X-MICROSOFT-CDO-ALLDAYEVENT:FALSE
SUMMARY:Palm Sunday Service at Key Biscayne Presbyterian Church
DESCRIPTION:A string quartet will add beauty to this special worship service.
X-ALT-DESC;FMTTYPE=text/html:A string quartet will add beauty to this special worship service.
LOCATION:Key Biscayne Presbyterian Church 160 Harbor Drive Key Biscayne\, FL 33149
UID:e.330.4082
SEQUENCE:3
DTSTAMP:20260419T150614Z
URL:https://business.keybiscaynechamber.org/events/details/palm-sunday-service-at-key-biscayne-presbyterian-church-04-13-2014-4082
END:VEVENT

END:VCALENDAR
