BEGIN:VCALENDAR
VERSION:2.0
PRODID:-//ChamberMaster//Event Calendar 2.0//EN
METHOD:PUBLISH
X-PUBLISHED-TTL:P3D
REFRESH-INTERVAL:P3D
CALSCALE:GREGORIAN
BEGIN:VEVENT
DTSTART:20250920T130000Z
DTEND:20250920T160000Z
X-MICROSOFT-CDO-ALLDAYEVENT:FALSE
SUMMARY:Paint Out at Biscayne Nature Center
DESCRIPTION:Join Biscayne Nature Center this Saturday for a morning of plein air painting surrounded by the beauty of Crandon Beach!\n\n\n\n   Bring your easel\, paints\, and creativity - let's capture the magic of nature together!   \n\n\n\n   Paint Out\n\n  Saturday\, September 20\, 2025\n\n  9:00 AM - 12:00 PM\n\n Reception and Refreshments 12-1pm\n\n  MSD Biscayne Nature Center\n\n6767 Crandon Blvd\, Key Biscayne\, FL 33149\n\n\n\nTo paint en plein air is to step into a dialogue with the living world. The breeze becomes your companion\, the shifting light your muse\, and the rhythm of waves\, wind\, and birdsong your quiet metronome.
X-ALT-DESC;FMTTYPE=text/html:<br />\n<br />\n<span style="font-size:18px\;"><span font-size:="" segoe="" style="color: rgb(0\, 0\, 0)\; font-family: -apple-system\, ">Join Biscayne Nature Center this Saturday for a morning of plein air painting surrounded by the beauty of Crandon Beach!</span><br font-size:="" segoe="" style="color: rgb(0\, 0\, 0)\; font-family: -apple-system\, " />\n<br font-size:="" segoe="" style="color: rgb(0\, 0\, 0)\; font-family: -apple-system\, " />\n<span font-size:="" segoe="" style="color: rgb(0\, 0\, 0)\; font-family: -apple-system\, ">&#10024\;&#128444\;&#65039\;Bring your easel\, paints\, and creativity - let&rsquo\;s capture the magic of nature together! &#127807\;&#127754\;</span><br font-size:="" segoe="" style="color: rgb(0\, 0\, 0)\; font-family: -apple-system\, " />\n<br font-size:="" segoe="" style="color: rgb(0\, 0\, 0)\; font-family: -apple-system\, " />\n<span font-size:="" segoe="" style="color: rgb(0\, 0\, 0)\; font-family: -apple-system\, ">&#128396\;&#65039\; Paint Out</span><br font-size:="" segoe="" style="color: rgb(0\, 0\, 0)\; font-family: -apple-system\, " />\n<span font-size:="" segoe="" style="color: rgb(0\, 0\, 0)\; font-family: -apple-system\, ">&#128197\; Saturday\, September 20\, 2025</span><br font-size:="" segoe="" style="color: rgb(0\, 0\, 0)\; font-family: -apple-system\, " />\n<span font-size:="" segoe="" style="color: rgb(0\, 0\, 0)\; font-family: -apple-system\, ">&#9200\; 9:00 AM - 12:00 PM</span><br font-size:="" segoe="" style="color: rgb(0\, 0\, 0)\; font-family: -apple-system\, " />\n<span font-size:="" segoe="" style="color: rgb(0\, 0\, 0)\; font-family: -apple-system\, ">&#128075\;Reception and Refreshments 12-1pm</span><br font-size:="" segoe="" style="color: rgb(0\, 0\, 0)\; font-family: -apple-system\, " />\n<span font-size:="" segoe="" style="color: rgb(0\, 0\, 0)\; font-family: -apple-system\, ">&#128205\; MSD Biscayne Nature Center</span><br font-size:="" segoe="" style="color: rgb(0\, 0\, 0)\; font-family: -apple-system\, " />\n<span font-size:="" segoe="" style="color: rgb(0\, 0\, 0)\; font-family: -apple-system\, ">6767 Crandon Blvd\, Key Biscayne\, FL 33149</span><br font-size:="" segoe="" style="color: rgb(0\, 0\, 0)\; font-family: -apple-system\, " />\n<br font-size:="" segoe="" style="color: rgb(0\, 0\, 0)\; font-family: -apple-system\, " />\n<span font-size:="" segoe="" style="color: rgb(0\, 0\, 0)\; font-family: -apple-system\, ">To paint en plein air is to step into a dialogue with the living world. The breeze becomes your companion\, the shifting light your muse\, and the rhythm of waves\, wind\, and birdsong your quiet metronome.</span></span>
LOCATION:Marjory Stoneman Douglas Biscayne Nature Center (Crandon Park)
UID:e.330.23226
SEQUENCE:3
DTSTAMP:20260424T225454Z
URL:https://business.keybiscaynechamber.org/events/details/paint-out-at-biscayne-nature-center-23226
END:VEVENT

END:VCALENDAR
