BEGIN:VCALENDAR
VERSION:2.0
PRODID:-//ChamberMaster//Event Calendar 2.0//EN
METHOD:PUBLISH
X-PUBLISHED-TTL:P3D
REFRESH-INTERVAL:P3D
CALSCALE:GREGORIAN
BEGIN:VEVENT
DTSTART:20120325T020000Z
DTEND:20120325T030000Z
X-MICROSOFT-CDO-ALLDAYEVENT:FALSE
SUMMARY:Overcoming Fears and Phobias with EMDR
DESCRIPTION:Overcoming Fears and Phobias with EMDR\n\n	(Eye Movement Desensitization Reprocessing)\n\n	Mirta Pont\, LCSW trained in EMDR\n \n\nWould you finally like to feel comfortable when you take a trip on an airplane or drive on the expressway?\n\nYou can overcome a phobia (i.e.\, elevators/animals) and decrease anxiety from a traumatic event.\n\n \n\nLearn how this powerful and effective therapy can diffuse phobias and fear in your everyday life.\n\n \n\nFor more info 305-401-4348   gpont1@att.net
X-ALT-DESC;FMTTYPE=text/html:<p style="text-align: center">\n	<span style="font-size: medium"><strong><em><u><span style="color: blue"><span style="font-family: georgia\, serif">Overcoming Fears and Phobias with EMDR</span></span></u></em></strong></span><br />\n	<span style="font-size: medium"><strong><em><u><span style="color: blue"><span style="font-family: georgia\, serif">(Eye Movement Desensitization Reprocessing)</span></span></u></em></strong></span></p>\n<p style="text-align: center">\n	<span style="font-size: medium"><strong><span style="color: black"><span style="font-family: georgia\, serif">Mirta Pont</span></span></strong></span><span style="color: black"><span style="font-family: georgia\, serif">\, LCSW trained in EMDR</span></span></p>\n&nbsp\;<br />\n<span style="font-size: medium"><span style="color: black"><span style="font-family: georgia\, serif">Would you finally like to feel comfortable when you take a trip on an airplane or drive on the expressway?</span></span></span><br />\n<span style="font-size: medium"><span style="color: black"><span style="font-family: georgia\, serif">You can&nbsp\;overcome a phobia (i.e.\, elevators/animals) and decrease anxiety from a traumatic event.</span></span></span><br />\n&nbsp\;<br />\n<span style="font-size: medium"><span style="color: black"><span style="font-family: georgia\, serif">Learn how this powerful and effective therapy can diffuse phobias and fear in your everyday life.</span></span></span><br />\n&nbsp\;<br />\n<span style="font-size: medium"><span style="color: black"><span style="font-family: georgia\, serif">For more info </span></span></span><span style="color: black"><a href="tel:305-401-4348" target="_blank"><span style="font-family: georgia\, serif"><span style="color: #0000ff">305-401-4348</span></span></a></span>&nbsp\;&nbsp\; <span style="color: black"><span style="color: black"><a href="mailto:gpont1@att.net" target="_blank"><span style="font-family: georgia\, serif"><span style="color: #0000ff">gpont1@att.net</span></span></a></span></span>&nbsp\;<br />\n
LOCATION:The Family Enrichment and Therapy Center 240 Crandon Blvd. Suite 102 Key Biscayne\, FL www.thefamilyetc.com
UID:e.330.3633
SEQUENCE:3
DTSTAMP:20260421T032429Z
URL:https://business.keybiscaynechamber.org/events/details/overcoming-fears-and-phobias-with-emdr-03-24-2012-3633
END:VEVENT

END:VCALENDAR
