BEGIN:VCALENDAR
VERSION:2.0
PRODID:-//ChamberMaster//Event Calendar 2.0//EN
METHOD:PUBLISH
X-PUBLISHED-TTL:P3D
REFRESH-INTERVAL:P3D
CALSCALE:GREGORIAN
BEGIN:VEVENT
DTSTART:20121207T150000Z
DTEND:20121207T230000Z
X-MICROSOFT-CDO-ALLDAYEVENT:FALSE
SUMMARY:Open House-Dermatology & Plastic Surgery Center
DESCRIPTION:Join us for a day of beauty. Botox\, fillers\, and laser demonstrations will be performed. Complimentary facials will also be available. 15% Off all cosmetic procedures.\n\n	\n\n	Bring a friend. RSVP is recommended by calling (305) 361-8200.\n\n	Raffles\, & hors' d' oeuvres will be served.\n\n	www.MiamiDermatologyCenter.com
X-ALT-DESC;FMTTYPE=text/html:<p>\n	Join us for a day of beauty. Botox\, fillers\, and laser demonstrations will be performed. Complimentary facials will also be available. 15% Off all cosmetic procedures.<br />\n	<br />\n	Bring a friend. RSVP is recommended by calling (305) 361-8200.<br />\n	Raffles\, &amp\; hors&#39\; d&#39\; oeuvres will be served.<br />\n	<a href="http://www.MiamiDermatologyCenter.com">www.MiamiDermatologyCenter.com</a></p>\n
LOCATION:580 Crandon Blvd\, Key Biscayne\, FL
UID:e.330.3788
SEQUENCE:3
DTSTAMP:20260420T145451Z
URL:https://business.keybiscaynechamber.org/events/details/open-house-dermatology-plastic-surgery-center-12-07-2012-3788
END:VEVENT

END:VCALENDAR
