BEGIN:VCALENDAR
VERSION:2.0
PRODID:-//ChamberMaster//Event Calendar 2.0//EN
METHOD:PUBLISH
X-PUBLISHED-TTL:P3D
REFRESH-INTERVAL:P3D
CALSCALE:GREGORIAN
BEGIN:VEVENT
DTSTART:20130717T210000Z
DTEND:20130718T000000Z
X-MICROSOFT-CDO-ALLDAYEVENT:FALSE
SUMMARY:Open House - Cervera Key Biscayne
DESCRIPTION:Open House for Grove at Grand Bay in Coconut Grove at the Cervera Key Biscayne Office to highlight our new Scale Model\n\n	Feel free to bring customers and friends and enjoy catering by Xixon.\n\n	Please reply to Dolores Delgado at 305-632-3734 or ddelgado@groveatgrandbay.com
X-ALT-DESC;FMTTYPE=text/html:<div style="color: gray">\n	<span style="color: black"><span style="font-family: verdana\, sans-serif"><span style="font-size: medium"><span style="font-family: verdana">Open House for Grove at Grand Bay in Coconut Grove at the Cervera Key Biscayne Office to highlight our new Scale Model<br />\n	Feel free to bring customers and friends and enjoy catering by Xixon.<br />\n	Please reply to Dolores Delgado at <font color="#000000" face="Verdana" size="3">305-632-3734</font> or <font color="#000000" face="Verdana" size="3"><a href="mailto:ddelgado@groveatgrandbay.com">ddelgado@groveatgrandbay.com</a></font></span></span></span></span><br />\n	&nbsp\;</div>\n
LOCATION:Cervera Key Biscayne Office 634 Crandon Blvd (next to Sushi Siam)
UID:e.330.3944
SEQUENCE:3
DTSTAMP:20260420T025510Z
URL:https://business.keybiscaynechamber.org/events/details/open-house-cervera-key-biscayne-07-17-2013-3944
END:VEVENT

END:VCALENDAR
