BEGIN:VCALENDAR
VERSION:2.0
PRODID:-//ChamberMaster//Event Calendar 2.0//EN
METHOD:PUBLISH
X-PUBLISHED-TTL:P3D
REFRESH-INTERVAL:P3D
CALSCALE:GREGORIAN
BEGIN:VEVENT
DTSTART:20111116T170000Z
DTEND:20111116T190000Z
X-MICROSOFT-CDO-ALLDAYEVENT:FALSE
SUMMARY:Open House at 365 Redwood Lane
DESCRIPTION:We invite you to our Open House on 365 Redwood Lane from 12-00 to 2:00\n\n\n	Featured in the "2011 Lifestyles in Paradise" home tour of K.B. This captivating custom built home provides a refreshing experience from the moment you step onto the brick walkway through lush native foliage to the welcoming front veranda.
X-ALT-DESC;FMTTYPE=text/html:<span style="font-size: 14px"><span style="background-color: lime"><em>We invite you to our Open House on 365 Redwood Lane from 12-00 to 2:00</em></span></span><br />\n<h3 style="color: red">\n	<em><tt>Featured in the &quot\;2011 Lifestyles in Paradise&quot\; home tour of K.B. This captivating custom built home provides a refreshing experience from the moment you step onto the brick walkway through lush native foliage to the welcoming front veranda. </tt></em></h3>\n<br />\n<br />\n
LOCATION:365 Redwood Lane\, Key Biscayne\, Florida 33149
UID:e.330.3509
SEQUENCE:3
DTSTAMP:20260421T102959Z
URL:https://business.keybiscaynechamber.org/events/details/open-house-at-365-redwood-lane-11-16-2011-3509
END:VEVENT

END:VCALENDAR
