BEGIN:VCALENDAR
VERSION:2.0
PRODID:-//ChamberMaster//Event Calendar 2.0//EN
METHOD:PUBLISH
X-PUBLISHED-TTL:P3D
REFRESH-INTERVAL:P3D
CALSCALE:GREGORIAN
BEGIN:VEVENT
DTSTART:20110120T230000Z
DTEND:20110121T010000Z
X-MICROSOFT-CDO-ALLDAYEVENT:FALSE
SUMMARY:ONE Sotheby's Intn'l Realty Tweet Up
DESCRIPTION:ONE Sotheby's International Realty\, the international real estate firm specializing in luxury properties throughout South Florida\, is hosting a Tweet Up event on January 20 from 6 pm to 8 pm. The Tweet Up will launch the firm's newly renovated Key Biscayne office.\n\n	Joining the decor of the new office in Key Biscayne is Venezuelan photographer\, Kiko Ricote. Kiko is the 'spotlight artist' being recognized for his contributions to the local market. His renowned photography will be displayed on the white walls of the office providing visitors an 'art gallery' experience.\n\n	ONE Sotheby's International Realty has successfully held two Tweet Up events\, one in Ft. Lauderdale at the firm's Las Olas location and the other at the W Residences in South Beach. The firm uses savvy marketing tools to network which provides them a competitive advantage in the current marketplace.\n\n	"We are constantly working on new and innovative savvy marketing tools to offer clients and brokers\," says Beth Butler\, president of ONE Sotheby's International Realty. "The Tweet Up events have been very successful\, everyone enjoys tweeting."
X-ALT-DESC;FMTTYPE=text/html:<span style="font-size: 12px"><span style="font-family: arial">ONE Sotheby&rsquo\;s International Realty\, the international real estate firm specializing in luxury properties throughout South Florida\, is hosting a Tweet Up event on January 20 from 6 pm to 8 pm. The Tweet Up will launch the firm&rsquo\;s newly renovated Key Biscayne office.</span></span>\n<p>\n	<span style="font-size: 12px"><span style="font-family: arial">Joining the decor of the new office in Key Biscayne is Venezuelan photographer\, Kiko Ricote. Kiko is the &lsquo\;spotlight artist&rsquo\; being recognized for his contributions to the local market. His renowned photography will be displayed on the white walls of the office providing visitors an &lsquo\;art gallery&rsquo\; experience.</span></span></p>\n<p>\n	<span style="font-size: 12px"><span style="font-family: arial">ONE Sotheby&rsquo\;s International Realty has successfully held two Tweet Up events\, one in Ft. Lauderdale at the firm&rsquo\;s Las Olas location and the other at the W Residences in South Beach. The firm uses savvy marketing tools to network which provides them a competitive advantage in the current marketplace.</span></span></p>\n<p>\n	<span style="font-size: 12px"><span style="font-family: arial">&ldquo\;We are constantly working on new and innovative savvy marketing tools to offer clients and brokers\,&rdquo\; says Beth Butler\, president of ONE Sotheby&rsquo\;s International Realty. &ldquo\;The Tweet Up events have been very successful\, everyone enjoys tweeting.&rdquo\;</span></span><span _fck_bookmark="1" style="display: none">&nbsp\;</span></p>\n
LOCATION:328 Crandon Boulevard #222
UID:e.330.3045
SEQUENCE:3
DTSTAMP:20260421T230303Z
URL:https://business.keybiscaynechamber.org/events/details/one-sotheby-s-intn-l-realty-tweet-up-01-20-2011-3045
END:VEVENT

END:VCALENDAR
