BEGIN:VCALENDAR
VERSION:2.0
PRODID:-//ChamberMaster//Event Calendar 2.0//EN
METHOD:PUBLISH
X-PUBLISHED-TTL:P3D
REFRESH-INTERVAL:P3D
CALSCALE:GREGORIAN
BEGIN:VEVENT
DTSTART:20121005T233000Z
DTEND:20121006T035500Z
X-MICROSOFT-CDO-ALLDAYEVENT:FALSE
SUMMARY:Oktoberfest - Key Biscayne Lions Club
DESCRIPTION:German beer\, Bratwurst\, Sauerkraut\, Potato Salad\, Wine\, Music and more
X-ALT-DESC;FMTTYPE=text/html:<span style="font-size: 16px"><span style="font-family: comic sans ms"><span style="color: #008000">German beer\, Bratwurst\, Sauerkraut\, Potato Salad\, Wine\, Music and more</span></span></span>
LOCATION:Key Biscayne Beach Club
UID:e.330.3758
SEQUENCE:3
DTSTAMP:20260420T160510Z
URL:https://business.keybiscaynechamber.org/events/details/oktoberfest-key-biscayne-lions-club-10-05-2012-3758
END:VEVENT

END:VCALENDAR
