BEGIN:VCALENDAR
VERSION:2.0
PRODID:-//ChamberMaster//Event Calendar 2.0//EN
METHOD:PUBLISH
X-PUBLISHED-TTL:P3D
REFRESH-INTERVAL:P3D
CALSCALE:GREGORIAN
BEGIN:VEVENT
DTSTART:20110930T233000Z
DTEND:20111001T035500Z
X-MICROSOFT-CDO-ALLDAYEVENT:FALSE
SUMMARY:Oktoberfest - Key Biscayne Lions Club
DESCRIPTION:German beer\, Bratwurst\, Sauerkraut\, Potato Salad\, Wine...and more....
X-ALT-DESC;FMTTYPE=text/html:German beer\, Bratwurst\, Sauerkraut\, Potato Salad\, Wine...and more....
LOCATION:Key Biscayne Beach Club
UID:e.330.1862
SEQUENCE:3
DTSTAMP:20260421T132434Z
URL:https://business.keybiscaynechamber.org/events/details/oktoberfest-key-biscayne-lions-club-09-30-2011-1862
END:VEVENT

END:VCALENDAR
