BEGIN:VCALENDAR
VERSION:2.0
PRODID:-//ChamberMaster//Event Calendar 2.0//EN
METHOD:PUBLISH
X-PUBLISHED-TTL:P3D
REFRESH-INTERVAL:P3D
CALSCALE:GREGORIAN
BEGIN:VEVENT
DTSTART:20131004T233000Z
DTEND:20131005T035500Z
X-MICROSOFT-CDO-ALLDAYEVENT:FALSE
SUMMARY:Oktoberfest
DESCRIPTION:The Key Biscayne Lions Club will be hosting Oktoberfest.  The event features "All you can eat and drink."  Oktoberfest music will be provided.  The public is invited to attend.\n\n\n\nFood served until 10 pm.\n\n\n\nTickets are available at the Door\, and from any Lions Club Member
X-ALT-DESC;FMTTYPE=text/html:<span style="color: #ff8c00"><span style="font-family: verdana"><span style="font-size: 14px">The Key Biscayne Lions Club will be hosting Oktoberfest.&nbsp\; The event features &quot\;All you can eat and drink.&quot\;&nbsp\; Oktoberfest music will be provided.&nbsp\; The public is invited to attend.<br />\n<br />\nFood served until 10 pm.<br />\n<br />\nTickets are available at the Door\, and from any Lions Club Member</span></span></span>
LOCATION:Key Biscayne Beach Club 685 Ocean Drive Key Biscayne
UID:e.330.3999
SEQUENCE:3
DTSTAMP:20260419T222320Z
URL:https://business.keybiscaynechamber.org/events/details/oktoberfest-10-04-2013-3999
END:VEVENT

END:VCALENDAR
