BEGIN:VCALENDAR
VERSION:2.0
PRODID:-//ChamberMaster//Event Calendar 2.0//EN
METHOD:PUBLISH
X-PUBLISHED-TTL:P3D
REFRESH-INTERVAL:P3D
CALSCALE:GREGORIAN
BEGIN:VEVENT
DTSTART;VALUE=DATE:20120322
DTEND;VALUE=DATE:20120501
TRANSP:TRANSPARENT
X-MICROSOFT-CDO-ALLDAYEVENT:TRUE
SUMMARY:Oh Say Can You Sing
DESCRIPTION:Sing your way to stardom at this year's Key Biscayne 4thof July Parade!  The Key Biscayne Fourth of July Parade Committee is pleased to provide the residents of Key Biscayne the opportunity to participate in singing the National Anthem at the 2012 Key Biscayne 4thof July Parade.  \n\n \n\nWe are accepting video submissions (soloists or duos singing the national anthem) from a diverse array of Key Biscayners. \n\nTo enter\, submit a 30-second video of yourself singing the National Anthem\, vote for it and any other great videos from entrants you think are worthy enough to sing at the Parade. (Anyone can enter\, but only singers living in the Village of Key Biscayne are eligible to win).\n\nThe Top 5 entrants with the most votes will be invited to an audition to sing the National Anthem in front of a panel of judges at St. Christopher's Episcopal Church\, May 16th\, 2012 @7pm to decide the winner.  (All 5 entrants must attend the audition at the said time and date or they will be disqualified). \n\n \n\nThe Winner and their family will also be the guest of the parade committee throughout the day's events:  dignitaries' breakfast\, riding in the parade\, and the winner will receive a $100 US Savings Bond.\n\n \n\nThe Entry deadline is April 30th.  \n\n \n\nYou can upload your video on our website\, www.kb4.org.  \n\n \n\nGood Luck!
X-ALT-DESC;FMTTYPE=text/html:<span style="font-family: comic sans ms"><span style="font-size: medium">Sing your way to stardom at this year&rsquo\;s Key Biscayne 4</span></span><sup><span style="font-size: small">th</span></sup><span style="font-size: medium">of July Parade</span><span style="font-family: comic sans ms"><span style="font-size: medium">!&nbsp\; The Key Biscayne Fourth of July Parade Committee is pleased to provide the residents of Key Biscayne the opportunity to participate in singing the National Anthem at the 2012 Key Biscayne 4</span></span><sup><span style="font-size: small">th</span></sup><span style="font-size: medium">of July Parade.&nbsp\; </span><br />\n&nbsp\;<br />\n<span style="font-size: medium"><span style="font-family: comic sans ms">We are accepting video submissions (soloists or duos singing the national anthem) from a diverse array of Key Biscayners. </span></span><br />\n<span style="font-family: comic sans ms"><span style="font-size: medium">To enter\, submit a 30-second video of yourself singing the National Anthem\, vote for it and any other great videos from entrants you think are worthy enough to sing at the Parade. (Anyone can enter\, but only singers living in the Village of Key Biscayne are eligible to win).</span></span><br />\n<span style="font-family: comic sans ms"><span style="font-size: medium">The Top 5 entrants with the most votes will be invited to an audition to sing the National Anthem in front of a panel of judges at St. Christopher&rsquo\;s Episcopal Church\, May 16</span></span><sup><span style="font-size: small">th</span></sup><span style="font-size: medium">\, 2012 @7pm to decide the winner. &nbsp\;(All 5 entrants must attend the audition at the said time and date or they will be disqualified). </span><br />\n&nbsp\;<br />\n<span style="font-family: comic sans ms"><span style="font-size: medium">The Winner and their family will also be the guest of the parade committee throughout the day&rsquo\;s events:&nbsp\; dignitaries&rsquo\; breakfast\, riding in the parade\, and the winner will receive a $100 US Savings Bond.</span></span><br />\n&nbsp\;<br />\n<span style="font-family: comic sans ms"><span style="font-size: medium">The Entry deadline is April 30th.&nbsp\; </span></span><br />\n&nbsp\;<br />\n<span style="font-family: comic sans ms"><span style="font-size: medium">You can upload your video on our website\, </span></span><a href="http://www.kb4.org/"><span style="font-size: medium"><span style="color: #0000ff">www.kb4.org</span></span></a><span style="font-size: medium">.&nbsp\; </span><br />\n&nbsp\;<br />\n<span style="font-family: comic sans ms"><span style="font-size: medium">Good Luck!&nbsp\;&nbsp\;&nbsp\;&nbsp\;&nbsp\;&nbsp\;&nbsp\;&nbsp\;</span></span><br />\n
LOCATION:Upload video to www.kb4.org Auditions on May 16th\, 2012 Top 5 will be notified by the 4th of July Committee
UID:e.330.3662
SEQUENCE:3
DTSTAMP:20260421T014859Z
URL:https://business.keybiscaynechamber.org/events/details/oh-say-can-you-sing-03-22-2012-3662
END:VEVENT

END:VCALENDAR
