BEGIN:VCALENDAR
VERSION:2.0
PRODID:-//ChamberMaster//Event Calendar 2.0//EN
METHOD:PUBLISH
X-PUBLISHED-TTL:P3D
REFRESH-INTERVAL:P3D
CALSCALE:GREGORIAN
BEGIN:VEVENT
DTSTART:20110128T230000Z
DTEND:20110129T010000Z
X-MICROSOFT-CDO-ALLDAYEVENT:FALSE
SUMMARY:Ocean Club Realty Benefit Cocktail Party for Relay for Life
DESCRIPTION:Guests of Honor\n\n	Anne Owens\n\n	Dr. Raul Ravelo\n\n	\n\n	Fashion Show by Yoly Munoz Couture\n\n	Modeled by Miss Miami Jaife Calil\n\n	\n\n	Silent Auction\n\n	by Santayana Jewelry\n\n	&\n\n	Artists: Meredith Buining\, Maria Burgas\, Jordi Prat Pons & Marilyn Liedman\n\n	\n\n	Entertainment by:\n\n	Linda Chahab - Soprano Soloist\n\n	Accompanied by Darlene Trujillo\n\n	Amarylli Fridegotto - Concert Pianist\n\n	\n\n	Raffle
X-ALT-DESC;FMTTYPE=text/html:<p style="text-align: center\;">\n	<strong><span style="font-size: 14px\;">Guests of Honor</span></strong></p>\n<p style="text-align: center\;">\n	Anne Owens<br />\n	Dr. Raul Ravelo<br />\n	<br />\n	<strong><span style="font-size: 14px\;">Fashion Show by Yoly Munoz Couture</span></strong><br />\n	Modeled by Miss Miami Jaife Calil<br />\n	<br />\n	<span style="font-size: 14px\;"><strong>Silent Auction</strong><br />\n	<span style="font-size: 12px\;">by</span></span> Santayana Jewelry<br />\n	&amp\;<br />\n	Artists: Meredith Buining\, Maria Burgas\, Jordi Prat Pons &amp\; Marilyn Liedman<br />\n	<br />\n	<strong><span style="font-size: 14px\;">Entertainment</span></strong> by:<br />\n	Linda Chahab - Soprano Soloist<br />\n	Accompanied by Darlene Trujillo<br />\n	Amarylli Fridegotto - Concert Pianist<br />\n	<br />\n	<strong>Raffle</strong></p>\n
LOCATION:The Palm Court at The Ocean Club 795 Crandon Blvd Key Biscayne\, FL 33149
UID:e.330.3030
SEQUENCE:3
DTSTAMP:20260421T230447Z
URL:https://business.keybiscaynechamber.org/events/details/ocean-club-realty-benefit-cocktail-party-for-relay-for-life-01-28-2011-3030
END:VEVENT

END:VCALENDAR
