BEGIN:VCALENDAR
VERSION:2.0
PRODID:-//ChamberMaster//Event Calendar 2.0//EN
METHOD:PUBLISH
X-PUBLISHED-TTL:P3D
REFRESH-INTERVAL:P3D
CALSCALE:GREGORIAN
BEGIN:VEVENT
DTSTART:20251101T010000Z
DTEND:20251101T035500Z
X-MICROSOFT-CDO-ALLDAYEVENT:FALSE
SUMMARY:Novecento's Halloween Contest Extravaganza
DESCRIPTION:Join us for Novecento's Halloween Costume Contest Extravaganza. Come dressed in your best costume and show off your spooky style! \n\nDJ Vicky Brisky. Proceeds from bar sales will benefit "Fundaci n Espartanos".
X-ALT-DESC;FMTTYPE=text/html:<p><br />\n<br />\n<span style="font-size:22px\;">Join us for Novecento&#39\;s Halloween Costume Contest Extravaganza. Come dressed in your best costume and show off your spooky style! </span></p>\n\n<p><span style="font-size:22px\;">DJ Vicky Brisky. Proceeds from bar sales will benefit &quot\;Fundaci&oacute\;n Espartanos&quot\;.</span><br />\n<br />\n&nbsp\;</p>\n
LOCATION:Novecento Key Biscayne
UID:e.330.23234
SEQUENCE:3
DTSTAMP:20260424T211950Z
URL:https://business.keybiscaynechamber.org/events/details/novecento-s-halloween-contest-extravaganza-23234
END:VEVENT

END:VCALENDAR
