BEGIN:VCALENDAR
VERSION:2.0
PRODID:-//ChamberMaster//Event Calendar 2.0//EN
METHOD:PUBLISH
X-PUBLISHED-TTL:P3D
REFRESH-INTERVAL:P3D
CALSCALE:GREGORIAN
BEGIN:VEVENT
DTSTART:20131114T223000Z
DTEND:20131115T003000Z
X-MICROSOFT-CDO-ALLDAYEVENT:FALSE
SUMMARY:Nov. Networker @ The Golden Hog
DESCRIPTION:November's Networker is at The Golden Hog.  Everyone is invited to attend.\n\n\n\nRSVP to info@keybiscaynechamber.org
X-ALT-DESC;FMTTYPE=text/html:November&#39\;s Networker is at The Golden Hog.&nbsp\; Everyone is invited to attend.<br />\n<br />\nRSVP to info@keybiscaynechamber.org
LOCATION:The Golden Hog 91 Harbor Dr. Key Biscayne\, FL 33149 7-11 Shopping Mall
UID:e.330.4018
SEQUENCE:3
DTSTAMP:20260419T204113Z
URL:https://business.keybiscaynechamber.org/events/details/nov-networker-the-golden-hog-11-14-2013-4018
END:VEVENT

END:VCALENDAR
