BEGIN:VCALENDAR
VERSION:2.0
PRODID:-//ChamberMaster//Event Calendar 2.0//EN
METHOD:PUBLISH
X-PUBLISHED-TTL:P3D
REFRESH-INTERVAL:P3D
CALSCALE:GREGORIAN
BEGIN:VEVENT
DTSTART;VALUE=DATE:20111231
DTEND;VALUE=DATE:20120101
TRANSP:TRANSPARENT
X-MICROSOFT-CDO-ALLDAYEVENT:TRUE
SUMMARY:New Year's Eve Menu at The Plaza Restaurant
DESCRIPTION:New Years Eve Menu\n\n	The Plaza Restaurant\n\n	Chef Alberto Cabanas\n\n	\n\n	Appetizers\n\n	Lobster Bisque\n\n	Grilled Caprino\n\n	Caesar Salad\n\n	\n\n	Main Course\n\n	Lobster Ravioli\n\n	Pesce Ripieno\n\n	Ossobuco alla Milanese\n\n	\n\n	Desserts\n\n	Mango Sorbet\n\n	Tiramisu\n\n	Tartufo\n\n	\n\n	$44.95 ++
X-ALT-DESC;FMTTYPE=text/html:<p style="text-align: center">\n	<span style="color: #b22222"><span style="font-size: 14px">New Years Eve&nbsp\;Menu<br />\n	The Plaza Restaurant<br />\n	Chef Alberto Cabanas</span></span><br />\n	<br />\n	<span style="color: #008000"><span style="font-size: 14px">Appetizers<br />\n	Lobster Bisque<br />\n	Grilled Caprino<br />\n	Caesar Salad</span></span><br />\n	<br />\n	<span style="color: #b22222"><span style="font-size: 14px">Main Course<br />\n	Lobster Ravioli<br />\n	Pesce Ripieno<br />\n	Ossobuco alla Milanese</span></span><br />\n	<br />\n	<span style="color: #008000"><span style="font-size: 14px">Desserts<br />\n	Mango Sorbet<br />\n	Tiramisu<br />\n	Tartufo</span></span><br />\n	<br />\n	<span style="color: #b22222"><span style="font-size: 14px"><strong>$44.95 ++</strong></span></span><br />\n	<br />\n	<br />\n	&nbsp\;</p>\n
LOCATION:The Plaza Restaurant 200 Crandon Blvd
UID:e.330.3568
SEQUENCE:3
DTSTAMP:20260421T074540Z
URL:https://business.keybiscaynechamber.org/events/details/new-year-s-eve-menu-at-the-plaza-restaurant-12-31-2011-3568
END:VEVENT

END:VCALENDAR
