BEGIN:VCALENDAR
VERSION:2.0
PRODID:-//ChamberMaster//Event Calendar 2.0//EN
METHOD:PUBLISH
X-PUBLISHED-TTL:P3D
REFRESH-INTERVAL:P3D
CALSCALE:GREGORIAN
BEGIN:VEVENT
DTSTART;VALUE=DATE:20111231
DTEND;VALUE=DATE:20120102
TRANSP:TRANSPARENT
X-MICROSOFT-CDO-ALLDAYEVENT:TRUE
SUMMARY:New Year's Eve Celebration at Puntino Restaurant in Key Biscayne!
DESCRIPTION:
X-ALT-DESC;FMTTYPE=text/html:
LOCATION:260 Crandon Boulevard\, Suite 29-30
UID:e.330.3558
SEQUENCE:3
DTSTAMP:20260421T061422Z
URL:https://business.keybiscaynechamber.org/events/details/new-year-s-eve-celebration-at-puntino-restaurant-in-key-biscayne-12-31-2011-3558
END:VEVENT

END:VCALENDAR
