BEGIN:VCALENDAR
VERSION:2.0
PRODID:-//ChamberMaster//Event Calendar 2.0//EN
METHOD:PUBLISH
X-PUBLISHED-TTL:P3D
REFRESH-INTERVAL:P3D
CALSCALE:GREGORIAN
BEGIN:VEVENT
DTSTART:20120101T030000Z
DTEND:20120101T070000Z
X-MICROSOFT-CDO-ALLDAYEVENT:FALSE
SUMMARY:New Year's Eve at The Ibis Lounge
DESCRIPTION:
X-ALT-DESC;FMTTYPE=text/html:
LOCATION:The Ibis Lounge 200 Crandon Blvd #101 Key Biscayne\, Fl 33149
UID:e.330.3545
SEQUENCE:3
DTSTAMP:20260421T061301Z
URL:https://business.keybiscaynechamber.org/events/details/new-year-s-eve-at-the-ibis-lounge-12-31-2011-3545
END:VEVENT

END:VCALENDAR
