BEGIN:VCALENDAR
VERSION:2.0
PRODID:-//ChamberMaster//Event Calendar 2.0//EN
METHOD:PUBLISH
X-PUBLISHED-TTL:P3D
REFRESH-INTERVAL:P3D
CALSCALE:GREGORIAN
BEGIN:VEVENT
DTSTART:20130613T120000Z
DTEND:20130613T130000Z
X-MICROSOFT-CDO-ALLDAYEVENT:FALSE
SUMMARY:Networkers Breakfast
DESCRIPTION:Continental Breakfast
X-ALT-DESC;FMTTYPE=text/html:Continental Breakfast
LOCATION:104 Crandon Blvd Suite 100 Key Biscayne\, FL 33149
UID:e.330.3920
SEQUENCE:3
DTSTAMP:20260420T061306Z
URL:https://business.keybiscaynechamber.org/events/details/networkers-breakfast-06-13-2013-3920
END:VEVENT

END:VCALENDAR
