BEGIN:VCALENDAR
VERSION:2.0
PRODID:-//ChamberMaster//Event Calendar 2.0//EN
METHOD:PUBLISH
X-PUBLISHED-TTL:P3D
REFRESH-INTERVAL:P3D
CALSCALE:GREGORIAN
BEGIN:VEVENT
DTSTART:20140410T213000Z
DTEND:20140410T233000Z
X-MICROSOFT-CDO-ALLDAYEVENT:FALSE
SUMMARY:Networker @ Tutto Pizza & Pasta
DESCRIPTION:Ttutto Pizza & Pasta will be hosting our April Networker. Join us for some food\, great company\, and of course networking. Hope to see you all there!
X-ALT-DESC;FMTTYPE=text/html:Ttutto Pizza &amp\; Pasta will be hosting our April Networker. Join us for some food\, great company\, and of course networking. Hope to see you all there!
LOCATION:Tutto Pizza & Pasta located on 328 Crandon Blvd #111 ( inside the Galleria Mall)
UID:e.330.4083
SEQUENCE:3
DTSTAMP:20260419T133458Z
URL:https://business.keybiscaynechamber.org/events/details/networker-tutto-pizza-pasta-04-10-2014-4083
END:VEVENT

END:VCALENDAR
