BEGIN:VCALENDAR
VERSION:2.0
PRODID:-//ChamberMaster//Event Calendar 2.0//EN
METHOD:PUBLISH
X-PUBLISHED-TTL:P3D
REFRESH-INTERVAL:P3D
CALSCALE:GREGORIAN
BEGIN:VEVENT
DTSTART:20130912T120000Z
DTEND:20130912T130000Z
X-MICROSOFT-CDO-ALLDAYEVENT:FALSE
SUMMARY:Networker @ The Islander News
DESCRIPTION:Join us for our next Networker - all are invited.\n\nRSVP info@keybiscaynechamber.org or 305-361-5207
X-ALT-DESC;FMTTYPE=text/html:Join us for our next Networker - all are invited.<br />\nRSVP <a href="mailto:info@keybiscaynechamber.org">info@keybiscaynechamber.org</a> or 305-361-5207
LOCATION:The Islander News 104 Crandon Blvd #301 - behind Wells Fargo Bank Key Biscayne\, FL 33149
UID:e.330.3978
SEQUENCE:3
DTSTAMP:20260419T235855Z
URL:https://business.keybiscaynechamber.org/events/details/networker-the-islander-news-09-12-2013-3978
END:VEVENT

END:VCALENDAR
