BEGIN:VCALENDAR
VERSION:2.0
PRODID:-//ChamberMaster//Event Calendar 2.0//EN
METHOD:PUBLISH
X-PUBLISHED-TTL:P3D
REFRESH-INTERVAL:P3D
CALSCALE:GREGORIAN
BEGIN:VEVENT
DTSTART:20131010T213000Z
DTEND:20131010T233000Z
X-MICROSOFT-CDO-ALLDAYEVENT:FALSE
SUMMARY:Networker at Engel & Volkers Key Biscayne
DESCRIPTION:October's Networker is at Engel & Volkers Key Biscayne.  Join us for drinks and appetizers and don't forget to bring a friend.  All are welcome.\n\n\n\nClick here to register
X-ALT-DESC;FMTTYPE=text/html:<span style="font-size:14px\;"><span style="font-family: verdana\;"><span style="color: rgb(255\, 102\, 102)\;">October&#39\;s Networker is at Engel &amp\; Volkers Key Biscayne.&nbsp\; Join us for drinks and appetizers and don&#39\;t forget to bring a friend.&nbsp\; All are welcome.</span></span></span><br />\n<br />\nClick <a href="https://events.r20.constantcontact.com/register/eventReg?llr=u6xrgedab&amp\;oeidk=a07e8aq5vv41a6fde00">here</a> to register
LOCATION:Engel & Volkers KB 328 Crandon Blvd #116 Key Biscayne\, FL 33149
UID:e.330.4006
SEQUENCE:3
DTSTAMP:20260419T235549Z
URL:https://business.keybiscaynechamber.org/events/details/networker-at-engel-volkers-key-biscayne-10-10-2013-4006
END:VEVENT

END:VCALENDAR
