BEGIN:VCALENDAR
VERSION:2.0
PRODID:-//ChamberMaster//Event Calendar 2.0//EN
METHOD:PUBLISH
X-PUBLISHED-TTL:P3D
REFRESH-INTERVAL:P3D
CALSCALE:GREGORIAN
BEGIN:VEVENT
DTSTART:20250807T220000Z
DTEND:20250808T003000Z
X-MICROSOFT-CDO-ALLDAYEVENT:FALSE
SUMMARY:National Lighthouse Day
DESCRIPTION:ENJOY: amazing views\, refreshments\, new friends.\n\nBRING: your folding chair and a friend. Donations are welcome!\n\nEXPECT: a great time at a unique place.\n\nKNOW: it's turtle season... we will be extra careful using only red lights. Please be respectful of the season's restrictions.\n\n\n\nTickets include: \n\n	Refreshments and lite bites. \n	Free park entrance and free parking. \n	After-hour access to the Cape Florida Lighthouse Compound and the sunset viewing tour. \n	Tour of the historic structure\, lighthouse keeper's cottage and gift shop. \n	Climb to the top of the historic lighthouse and breathtaking views over Downtown Miami and Stiltsville.
X-ALT-DESC;FMTTYPE=text/html:<br />\n<br />\n<span style="font-size:16px\;"><strong>ENJOY:</strong> amazing views\, refreshments\, new friends.<br />\n<strong>BRING:</strong> your folding chair and a friend. Donations are welcome!<br />\n<strong>EXPECT:</strong> a great time at a unique place.<br />\n<strong>KNOW:</strong> it&#39\;s turtle season... we will be extra careful using only red lights. Please be respectful of the season&#39\;s restrictions.<br />\n<br />\nTickets include: </span>\n<ul>\n	<li><span style="font-size:16px\;">Refreshments and lite bites. </span></li>\n	<li><span style="font-size:16px\;">Free park entrance and free parking. </span></li>\n	<li><span style="font-size:16px\;">After-hour access to the Cape Florida Lighthouse Compound and the sunset viewing tour. </span></li>\n	<li><span style="font-size:16px\;">Tour of the historic structure\, lighthouse keeper&#39\;s cottage and gift shop. </span></li>\n	<li><span style="font-size:16px\;">Climb to the top of the historic lighthouse and breathtaking views over Downtown Miami and Stiltsville.</span></li>\n</ul>\n
LOCATION:Lighthouse Compound
UID:e.330.23124
SEQUENCE:3
DTSTAMP:20260425T014107Z
URL:https://business.keybiscaynechamber.org/events/details/national-lighthouse-day-23124
END:VEVENT

END:VCALENDAR
