BEGIN:VCALENDAR
VERSION:2.0
PRODID:-//ChamberMaster//Event Calendar 2.0//EN
METHOD:PUBLISH
X-PUBLISHED-TTL:P3D
REFRESH-INTERVAL:P3D
CALSCALE:GREGORIAN
BEGIN:VEVENT
DTSTART:20120927T213000Z
DTEND:20120927T233000Z
X-MICROSOFT-CDO-ALLDAYEVENT:FALSE
SUMMARY:Multi-Chamber Business Card Exchange
DESCRIPTION:The Key Biscayne Chamber of Commerce will be hosting a Multi-Chamber Business Card Exchange.
X-ALT-DESC;FMTTYPE=text/html:The Key Biscayne Chamber of Commerce will be hosting a Multi-Chamber Business Card Exchange.
LOCATION:Ibis Lounge 200 Crandon Blvd Key Biscayne\, FL 33149
UID:e.330.3754
SEQUENCE:3
DTSTAMP:20260420T174304Z
URL:https://business.keybiscaynechamber.org/events/details/multi-chamber-business-card-exchange-09-27-2012-3754
END:VEVENT

END:VCALENDAR
