BEGIN:VCALENDAR
VERSION:2.0
PRODID:-//ChamberMaster//Event Calendar 2.0//EN
METHOD:PUBLISH
X-PUBLISHED-TTL:P3D
REFRESH-INTERVAL:P3D
CALSCALE:GREGORIAN
BEGIN:VEVENT
DTSTART;VALUE=DATE:20110716
DTEND;VALUE=DATE:20110717
TRANSP:TRANSPARENT
X-MICROSOFT-CDO-ALLDAYEVENT:TRUE
SUMMARY:Mr. Bones Haunted Yard Sale
DESCRIPTION:The Schroeders will host a Yard Sale prior to their move.  Get a piece of "KB History" & carry on the tradition of Mr. Bones Haunted Yard at your house.
X-ALT-DESC;FMTTYPE=text/html:<span style="font-size: 10pt"><span style="font-family: arial\, sans-serif">The Schroeders will host a Yard Sale prior to their move.&nbsp\; Get a piece of &ldquo\;KB History&rdquo\; &amp\; carry on the tradition of <em>Mr. Bones Haunted Yard</em> at your house.</span></span><br />\n&nbsp\;&nbsp\;<br />\n
LOCATION:
UID:e.330.3448
SEQUENCE:3
DTSTAMP:20260421T155247Z
URL:https://business.keybiscaynechamber.org/events/details/mr-bones-haunted-yard-sale-07-16-2011-3448
END:VEVENT

END:VCALENDAR
