BEGIN:VCALENDAR
VERSION:2.0
PRODID:-//ChamberMaster//Event Calendar 2.0//EN
METHOD:PUBLISH
X-PUBLISHED-TTL:P3D
REFRESH-INTERVAL:P3D
CALSCALE:GREGORIAN
BEGIN:VEVENT
DTSTART:20250919T220000Z
DTEND:20250920T003000Z
X-MICROSOFT-CDO-ALLDAYEVENT:FALSE
SUMMARY:Movie Night at the Academy of Martial Arts RDCA MMA
DESCRIPTION:It's Movie Night at RDCA MMA!  Experience a fun\, family-friendly evening where all kids are welcome!  Participants can enjoy a movie in a safe\, supportive environment.   Perfect for kids to relax\, laugh\, and unwind.  See you there!
X-ALT-DESC;FMTTYPE=text/html:<br />\n<br />\nIt&#39\;s Movie Night at RDCA MMA!&nbsp\; Experience a fun\, family-friendly evening where all kids are welcome!&nbsp\; Participants can enjoy a movie in a safe\, supportive environment.&nbsp\; &nbsp\;Perfect for kids to relax\, laugh\, and unwind.&nbsp\; See you there!
LOCATION:RDCA MMA
UID:e.330.23225
SEQUENCE:3
DTSTAMP:20260424T225726Z
URL:https://business.keybiscaynechamber.org/events/details/movie-night-at-the-academy-of-martial-arts-rdca-mma-23225
END:VEVENT

END:VCALENDAR
