BEGIN:VCALENDAR
VERSION:2.0
PRODID:-//ChamberMaster//Event Calendar 2.0//EN
METHOD:PUBLISH
X-PUBLISHED-TTL:P3D
REFRESH-INTERVAL:P3D
CALSCALE:GREGORIAN
BEGIN:VEVENT
DTSTART:20130815T223000Z
DTEND:20130816T003000Z
X-MICROSOFT-CDO-ALLDAYEVENT:FALSE
SUMMARY:Movers and Shakers Event
DESCRIPTION:Join Mover and Shakers in Miami as Miami Brickell and Key Biscayne  Chambers unite for an afternoon of cocktails and appetizers.  Complimentary valet will be available.\n\nInvite all your friends and have  a blast.\n\nRegister @ http://moverandshakersbiscayne-es2.eventbrite.com/?rank=1
X-ALT-DESC;FMTTYPE=text/html:Join Mover and Shakers in Miami as&nbsp\;Miami Brickell and Key Biscayne&nbsp\;&nbsp\;Chambers unite for an afternoon of cocktails and appetizers.&nbsp\; Complimentary valet will be available.<br />\nInvite all your friends and have&nbsp\;&nbsp\;a blast.<br />\nRegister @&nbsp\;<a href="http://moverandshakersbiscayne-es2.eventbrite.com/?rank=1">http://moverandshakersbiscayne-es2.eventbrite.com/?rank=1</a>&nbsp\;
LOCATION:Grand Bay Club 425 Grand Bay Dr. N Key Biscayne\, FL
UID:e.330.3958
SEQUENCE:3
DTSTAMP:20260420T013826Z
URL:https://business.keybiscaynechamber.org/events/details/movers-and-shakers-event-08-15-2013-3958
END:VEVENT

END:VCALENDAR
