BEGIN:VCALENDAR
VERSION:2.0
PRODID:-//ChamberMaster//Event Calendar 2.0//EN
METHOD:PUBLISH
X-PUBLISHED-TTL:P3D
REFRESH-INTERVAL:P3D
CALSCALE:GREGORIAN
BEGIN:VEVENT
DTSTART:20120509T150000Z
DTEND:20120511T220000Z
X-MICROSOFT-CDO-ALLDAYEVENT:FALSE
SUMMARY:Mother's Day Trunk Show at Diamonds on the Key
DESCRIPTION:Remember\, flowers wilt\, chocolates melt (or go to the hips) but diamonds last forever! View an extensive selection of fine jewelry gift items for Mother's Day including the "Gypsy Collection" featured here in 14 carat gold and gemstones starting at only $250\n\n	Can't make the event? Contact me with special requests so I may assist you personally!\n\n	1-305-851-1460
X-ALT-DESC;FMTTYPE=text/html:<h3 style="color:blue\;">\n	Remember\, flowers wilt\, chocolates melt (or go to the hips) but diamonds last forever! View an extensive selection of fine jewelry gift items for Mother&#39\;s Day including the &quot\;Gypsy Collection&quot\; featured here in 14 carat gold and gemstones starting at only $250</h3>\n<h3 style="color:blue\;">\n	Can&#39\;t make the event? Contact me with special requests so I may assist you personally!<br />\n	1-305-851-1460</h3>\n
LOCATION:Key Executive Building 104 Crandon Blvd 4th floor- suite 421A Key Biscayne
UID:e.330.3699
SEQUENCE:3
DTSTAMP:20260421T001819Z
URL:https://business.keybiscaynechamber.org/events/details/mother-s-day-trunk-show-at-diamonds-on-the-key-05-09-2012-3699
END:VEVENT

END:VCALENDAR
