BEGIN:VCALENDAR
VERSION:2.0
PRODID:-//ChamberMaster//Event Calendar 2.0//EN
METHOD:PUBLISH
X-PUBLISHED-TTL:P3D
REFRESH-INTERVAL:P3D
CALSCALE:GREGORIAN
BEGIN:VEVENT
DTSTART:20120514T030000Z
DTEND:20120513T183000Z
X-MICROSOFT-CDO-ALLDAYEVENT:FALSE
SUMMARY:Mother's Day Brunch at the Ritz-Carlton
DESCRIPTION:Mother's Day at The Ritz-Carlton Key Biscayne\, Miami \n\n \n\nBring all the special women in your life to bask in a relaxing afternoon at one of Miami's most lavish and decadent brunches in South Florida\, offering a  spectacular display of more than 100 culinary specialties including caviar\, cold seafood\, Chef de Omelet preparing over 41 internationally inspired omelets\, crepes\, sushi\, dim sum\, a variety of hot food selections and leave room for dessert as the resort's pastry team presents over 20 desserts\, beautifully displayed in the middle of the restaurant. Top it all off with overflowing Bellinis\, Mimosas and Bloody Marys.\n\n \n\n \n\nMother's Day Brunch\n\nSunday\, May 13\n\n \n\n$105 per adult (plus tax and gratuity)\n\n$45 per child (ages 5-12 plus tax and gratuity)\n\nSeatings 11 a.m.\, 12 p.m.\, 2 p.m.\, 2:30 p.m.\n\n \n\n \n\nCioppino at The Ritz-Carlton Key Biscayne\, Miami \n\n455 Grand Bay Drive\n\nKey Biscayne\, FL \n\nFor reservations or additional information\, please phone (305) 365-4286.\n\n \n\n \n\n \n\n-----------------------\n\n \n\nBy virtue of its location\, personalized service and exquisite offerings\, The Ritz-Carlton Spa\, Key Biscayne is a true destination spa disconnecting you from the rest of the world. This Mother's Day\, honor the special woman in your life by giving the gift of relaxation with a spa gift!\n\n \n\nPurchase a $200\, $500 or $700 Mother's Day Gift Card through May 13th and receive 10 percent credit to use in the Spa Boutique on the day of purchase. Redeem any Mother's Day gift card throughout the month of June and receive an additional 10 percent off any service.\n\n \n\nFor additional information or to book a reservation\, please phone (305) 365-4118.To view the full spa menu\, please visit www.ritzcarlton.com/keybiscayne.\n\n*Mother's Day Gift card promotion is not valid with any other offers or promotions.\n\n \n\nThe Ritz-Carlton Spa\, Key Biscayne \n\n455 Grand Bay Drive\n\nKey Biscayne\, FL
X-ALT-DESC;FMTTYPE=text/html:<strong><span style="color:black\;"><span style="font-size:14.0pt\;">Mother&rsquo\;s Day at The Ritz-Carlton Key Biscayne\, Miami </span></span></strong><br />\n&nbsp\;<br />\n<span style="color:black\;">Bring all the special women in your life to bask in a relaxing afternoon at one of Miami&rsquo\;s most lavish and decadent brunches in South Florida\, offering a &nbsp\;spectacular display of more than 100 culinary specialties including caviar\, cold seafood\, Chef de Omelet preparing over 41 internationally inspired omelets\, crepes\, sushi\, dim sum\, a variety of hot food selections and leave room for dessert as the resort&rsquo\;s pastry team presents over 20 desserts\, beautifully displayed in the middle of the restaurant. Top it all off with overflowing Bellinis\, Mimosas and Bloody Marys.</span><br />\n&nbsp\;<br />\n&nbsp\;<br />\n<strong><span style="color:black\;">Mother&rsquo\;s Day Brunch</span></strong><br />\n<span style="color:black\;">Sunday\, May 13</span><br />\n&nbsp\;<br />\n<span style="color:black\;">$105 per adult (plus tax and gratuity)</span><br />\n<span style="color:black\;">$45 per child (ages 5-12 plus tax and gratuity)</span><br />\n<span style="color:black\;">Seatings 11 a.m.\, 12 p.m.\, 2 p.m.\, 2:30 p.m.</span><br />\n&nbsp\;<br />\n&nbsp\;<br />\n<span style="color:black\;">Cioppino at The Ritz-Carlton Key Biscayne\, Miami </span><br />\n<span style="color:black\;">455 Grand Bay Drive</span><br />\n<span style="color:black\;">Key Biscayne\, FL </span><br />\n<span style="color:black\;">For reservations or additional information\, please phone (305) 365-4286.</span><br />\n&nbsp\;<br />\n&nbsp\;<br />\n&nbsp\;<br />\n<span style="color:black\;">-----------------------</span><br />\n&nbsp\;<br />\n<span style="color:black\;">By virtue of its location\, personalized service and exquisite offerings\, <strong>The Ritz-Carlton Spa\, Key Biscayne </strong>is a true destination spa disconnecting you from the rest of the world. This Mother&rsquo\;s Day\, honor the special woman in your life by giving the gift of relaxation with a spa gift!</span><br />\n&nbsp\;<br />\n<span style="color:black\;">Purchase a $200\, $500 or $700 Mother&rsquo\;s Day Gift Card through May 13<sup>th</sup> and receive 10 percent credit to use in the Spa Boutique on the day of purchase. Redeem any Mother&rsquo\;s Day&nbsp\;gift card throughout the month of June and receive an additional 10 percent off any service.</span><br />\n&nbsp\;<br />\n<span style="color:black\;">For additional information or to book a reservation\, please phone (305) 365-4118.<strong><span style="font-weight: normal\;"><span style="font-family: calibri\,sans-serif\;">To</span></span></strong><strong><span style="font-weight:normal\;"><span style="font-family:calibri\,sans-serif\;"> view the full spa menu\, please visit</span></span></strong>&nbsp\;<strong><span style="font-weight:normal\;"><span style="font-family:calibri\,sans-serif\;"><a href="http://www.ritzcarlton.com/keybiscayne">www.ritzcarlton.com/keybiscayne</a></span></span></strong><strong><span style="font-family:calibri\,sans-serif\;">.</span></strong></span><br />\n<em><span style="color:black\;">*Mother&rsquo\;s Day Gift card promotion is not valid with any other offers or promotions.</span></em><br />\n&nbsp\;<br />\n<span style="color:black\;">The Ritz-Carlton Spa\, Key Biscayne </span><br />\n<span style="color:black\;">455 Grand Bay Drive</span><br />\n<span style="color:black\;">Key Biscayne\, FL </span><br />\n&nbsp\;<br />\n&nbsp\;<br />\n&nbsp\;
LOCATION:Cioppino at The Ritz-Carlton Key Biscayne Miami 455 Grand Bay Drive Key Biscayne\, FL 33149
UID:e.330.3693
SEQUENCE:3
DTSTAMP:20260421T015324Z
URL:https://business.keybiscaynechamber.org/events/details/mother-s-day-brunch-at-the-ritz-carlton-05-13-2012-3693
END:VEVENT

END:VCALENDAR
