BEGIN:VCALENDAR
VERSION:2.0
PRODID:-//ChamberMaster//Event Calendar 2.0//EN
METHOD:PUBLISH
X-PUBLISHED-TTL:P3D
REFRESH-INTERVAL:P3D
CALSCALE:GREGORIAN
BEGIN:VEVENT
DTSTART;VALUE=DATE:20140517
DTEND;VALUE=DATE:20140518
TRANSP:TRANSPARENT
X-MICROSOFT-CDO-ALLDAYEVENT:TRUE
SUMMARY:Monica Burguera Foundation Boating Safety Course
DESCRIPTION:Saturday May 17th 8:30am-4:30pm in the Island Room of the KB Community Center on the Second Floor.
X-ALT-DESC;FMTTYPE=text/html:Saturday May 17th&nbsp\;8:30am-4:30pm&nbsp\;in the Island Room of the KB Community Center on the Second Floor.&nbsp\;
LOCATION:
UID:e.330.4109
SEQUENCE:3
DTSTAMP:20260419T121535Z
URL:https://business.keybiscaynechamber.org/events/details/monica-burguera-foundation-boating-safety-course-05-17-2014-4109
END:VEVENT

END:VCALENDAR
