BEGIN:VCALENDAR
VERSION:2.0
PRODID:-//ChamberMaster//Event Calendar 2.0//EN
METHOD:PUBLISH
X-PUBLISHED-TTL:P3D
REFRESH-INTERVAL:P3D
CALSCALE:GREGORIAN
BEGIN:VEVENT
DTSTART:20130928T160000Z
DTEND:20130928T170000Z
X-MICROSOFT-CDO-ALLDAYEVENT:FALSE
SUMMARY:Miloki Flow Jiu Jitsu & Movement
DESCRIPTION:Inauguration and Ribbon Cutting Ceremony
X-ALT-DESC;FMTTYPE=text/html:Inauguration and Ribbon Cutting Ceremony
LOCATION:200 Crandon Blvd #103 Key Biscayne\, FL 33149
UID:e.330.4001
SEQUENCE:3
DTSTAMP:20260419T235555Z
URL:https://business.keybiscaynechamber.org/events/details/miloki-flow-jiu-jitsu-movement-09-28-2013-4001
END:VEVENT

END:VCALENDAR
