BEGIN:VCALENDAR
VERSION:2.0
PRODID:-//ChamberMaster//Event Calendar 2.0//EN
METHOD:PUBLISH
X-PUBLISHED-TTL:P3D
REFRESH-INTERVAL:P3D
CALSCALE:GREGORIAN
BEGIN:VEVENT
DTSTART;VALUE=DATE:20110706
DTEND;VALUE=DATE:20110820
TRANSP:TRANSPARENT
X-MICROSOFT-CDO-ALLDAYEVENT:TRUE
SUMMARY:Miami Seaquarium Summer Camp
DESCRIPTION:Let your child enjoy sun-and-fun-filled days of education and conservation at Miami Seaquarium 's summer camp. Campers will have the opportunity to see all of our marine mammal shows and participate in at least one animal interaction per day. Even better\, our weekly programs vary by age and skills levels so you can find the program that is just right for your child. He or she will enjoy: Daily Animal Interactions & Show Field & Art Activities\, A Souvenir Water Bottle\, Snack and Camp T-shirt. \n\nFor more information 305-361-5705 ext 207
X-ALT-DESC;FMTTYPE=text/html:<span style="font-size: 10pt"><span style="font-family: arial\, sans-serif">Let your child enjoy sun-and-fun-filled days of education and conservation at Miami Seaquarium&reg\;&#39\;s summer camp. Campers will have the opportunity to see all of our&nbsp\;marine mammal shows and participate in at least one animal interaction per day. Even better\, our weekly programs vary by age and skills levels so you can find the program that is just right for your child. He or she will enjoy: Daily Animal Interactions &amp\; Show Field &amp\; Art Activities\, A Souvenir Water Bottle\, Snack and Camp T-shirt. </span></span><br />\n<span style="font-size: 10pt"><span style="font-family: arial\, sans-serif">For more information&nbsp\;305-361-5705 ext 207&nbsp\;</span></span><br />\n
LOCATION:Miami Seaquarium
UID:e.330.3447
SEQUENCE:3
DTSTAMP:20260421T132036Z
URL:https://business.keybiscaynechamber.org/events/details/miami-seaquarium-summer-camp-07-06-2011-3447
END:VEVENT

END:VCALENDAR
