BEGIN:VCALENDAR
VERSION:2.0
PRODID:-//ChamberMaster//Event Calendar 2.0//EN
METHOD:PUBLISH
X-PUBLISHED-TTL:P3D
REFRESH-INTERVAL:P3D
CALSCALE:GREGORIAN
BEGIN:VEVENT
DTSTART:20121103T230000Z
DTEND:20121104T030000Z
X-MICROSOFT-CDO-ALLDAYEVENT:FALSE
SUMMARY:Miami Live! Music by the Bay
DESCRIPTION:Come and enjoy 4 Latin Jazz bands\, art displays\, dancing and food trucks by the bay!  The proceeds of this event will go to a house-building project in Haiti in partnership with El Shaddai Ministries (ESMI)\, www.esmihaiti.org.\n\n\n\nBring coolers and chairs or blankets to enjoy an evening under the stars.
X-ALT-DESC;FMTTYPE=text/html:<style type="text/css">\n<!--{cke_protected}{C}%3C!%2D%2D%0D%0A%20%2F*%20Font%20Definitions%20*%2F%0D%0A%40font-face%0D%0A%09%7Bfont-family%3A%22%26%2365325%3B%26%2365331%3B%20%26%2326126%3B%26%2326397%3B%22%3B%0D%0A%09panose-1%3A0%200%200%200%200%200%200%200%200%200%3B%0D%0A%09mso-font-charset%3A128%3B%0D%0A%09mso-generic-font-family%3Aroman%3B%0D%0A%09mso-font-format%3Aother%3B%0D%0A%09mso-font-pitch%3Afixed%3B%0D%0A%09mso-font-signature%3A1%20134676480%2016%200%20131072%200%3B%7D%0D%0A%40font-face%0D%0A%09%7Bfont-family%3A%22Cambria%20Math%22%3B%0D%0A%09panose-1%3A2%204%205%203%205%204%206%203%202%204%3B%0D%0A%09mso-font-charset%3A0%3B%0D%0A%09mso-generic-font-family%3Aauto%3B%0D%0A%09mso-font-pitch%3Avariable%3B%0D%0A%09mso-font-signature%3A-536870145%201107305727%200%200%20415%200%3B%7D%0D%0A%40font-face%0D%0A%09%7Bfont-family%3ACalibri%3B%0D%0A%09panose-1%3A2%2015%205%202%202%202%204%203%202%204%3B%0D%0A%09mso-font-charset%3A0%3B%0D%0A%09mso-generic-font-family%3Aauto%3B%0D%0A%09mso-font-pitch%3Avariable%3B%0D%0A%09mso-font-signature%3A-520092929%201073786111%209%200%20415%200%3B%7D%0D%0A%40font-face%0D%0A%09%7Bfont-family%3ACambria%3B%0D%0A%09panose-1%3A2%204%205%203%205%204%206%203%202%204%3B%0D%0A%09mso-font-charset%3A0%3B%0D%0A%09mso-generic-font-family%3Aauto%3B%0D%0A%09mso-font-pitch%3Avariable%3B%0D%0A%09mso-font-signature%3A-536870145%201073743103%200%200%20415%200%3B%7D%0D%0A%20%2F*%20Style%20Definitions%20*%2F%0D%0Ap.MsoNormal%2C%20li.MsoNormal%2C%20div.MsoNormal%0D%0A%09%7Bmso-style-unhide%3Ano%3B%0D%0A%09mso-style-qformat%3Ayes%3B%0D%0A%09mso-style-parent%3A%22%22%3B%0D%0A%09margin%3A0in%3B%0D%0A%09margin-bottom%3A.0001pt%3B%0D%0A%09mso-pagination%3Awidow-orphan%3B%0D%0A%09font-size%3A12.0pt%3B%0D%0A%09font-family%3ACambria%3B%0D%0A%09mso-fareast-font-family%3A%22%26%2365325%3B%26%2365331%3B%20%26%2326126%3B%26%2326397%3B%22%3B%0D%0A%09mso-bidi-font-family%3A%22Times%20New%20Roman%22%3B%0D%0A%09mso-fareast-language%3AJA%3B%7D%0D%0Aa%3Alink%2C%20span.MsoHyperlink%0D%0A%09%7Bmso-style-priority%3A99%3B%0D%0A%09mso-style-unhide%3Ano%3B%0D%0A%09mso-style-parent%3A%22%22%3B%0D%0A%09color%3Ablue%3B%0D%0A%09text-decoration%3Aunderline%3B%0D%0A%09text-underline%3Asingle%3B%7D%0D%0Aa%3Avisited%2C%20span.MsoHyperlinkFollowed%0D%0A%09%7Bmso-style-noshow%3Ayes%3B%0D%0A%09mso-style-priority%3A99%3B%0D%0A%09color%3Apurple%3B%0D%0A%09mso-themecolor%3Afollowedhyperlink%3B%0D%0A%09text-decoration%3Aunderline%3B%0D%0A%09text-underline%3Asingle%3B%7D%0D%0A.MsoChpDefault%0D%0A%09%7Bmso-style-type%3Aexport-only%3B%0D%0A%09mso-default-props%3Ayes%3B%0D%0A%09font-size%3A10.0pt%3B%0D%0A%09mso-ansi-font-size%3A10.0pt%3B%0D%0A%09mso-bidi-font-size%3A10.0pt%3B%0D%0A%09font-family%3ACambria%3B%0D%0A%09mso-ascii-font-family%3ACambria%3B%0D%0A%09mso-fareast-font-family%3A%22%26%2365325%3B%26%2365331%3B%20%26%2326126%3B%26%2326397%3B%22%3B%0D%0A%09mso-hansi-font-family%3ACambria%3B%7D%0D%0A%40page%20WordSection1%0D%0A%09%7Bsize%3A8.5in%2011.0in%3B%0D%0A%09margin%3A1.0in%201.25in%201.0in%201.25in%3B%0D%0A%09mso-header-margin%3A.5in%3B%0D%0A%09mso-footer-margin%3A.5in%3B%0D%0A%09mso-paper-source%3A0%3B%7D%0D%0Adiv.WordSection1%0D%0A%09%7Bpage%3AWordSection1%3B%7D%0D%0A%2D%2D%3E--></style>\n<span style="font-size: 18px"><span style="font-family: calibri">Come and enjoy 4 Latin Jazz bands\, art displays\, dancing and food trucks by the bay!<span>&nbsp\; </span>The proceeds of this event will go to a <b style="mso-bidi-font-weight: normal">house-building project in Haiti</b> in partnership with El Shaddai Ministries (ESMI)\, </span><span style="font-family: cambria"><a href="http://www.esmihaiti.org"><span style="font-family: calibri">www.esmihaiti.org</span></a></span><span class="MsoHyperlink"><span style="font-family: calibri">.</span></span></span><br />\n<style type="text/css">\n<!--{cke_protected}{C}%3C!%2D%2D%0D%0A%20%2F*%20Font%20Definitions%20*%2F%0D%0A%40font-face%0D%0A%09%7Bfont-family%3A%22%26%2365325%3B%26%2365331%3B%20%26%2326126%3B%26%2326397%3B%22%3B%0D%0A%09panose-1%3A0%200%200%200%200%200%200%200%200%200%3B%0D%0A%09mso-font-charset%3A128%3B%0D%0A%09mso-generic-font-family%3Aroman%3B%0D%0A%09mso-font-format%3Aother%3B%0D%0A%09mso-font-pitch%3Afixed%3B%0D%0A%09mso-font-signature%3A1%20134676480%2016%200%20131072%200%3B%7D%0D%0A%40font-face%0D%0A%09%7Bfont-family%3A%22Cambria%20Math%22%3B%0D%0A%09panose-1%3A2%204%205%203%205%204%206%203%202%204%3B%0D%0A%09mso-font-charset%3A0%3B%0D%0A%09mso-generic-font-family%3Aauto%3B%0D%0A%09mso-font-pitch%3Avariable%3B%0D%0A%09mso-font-signature%3A-536870145%201107305727%200%200%20415%200%3B%7D%0D%0A%40font-face%0D%0A%09%7Bfont-family%3ACalibri%3B%0D%0A%09panose-1%3A2%2015%205%202%202%202%204%203%202%204%3B%0D%0A%09mso-font-charset%3A0%3B%0D%0A%09mso-generic-font-family%3Aauto%3B%0D%0A%09mso-font-pitch%3Avariable%3B%0D%0A%09mso-font-signature%3A-520092929%201073786111%209%200%20415%200%3B%7D%0D%0A%40font-face%0D%0A%09%7Bfont-family%3ACambria%3B%0D%0A%09panose-1%3A2%204%205%203%205%204%206%203%202%204%3B%0D%0A%09mso-font-charset%3A0%3B%0D%0A%09mso-generic-font-family%3Aauto%3B%0D%0A%09mso-font-pitch%3Avariable%3B%0D%0A%09mso-font-signature%3A-536870145%201073743103%200%200%20415%200%3B%7D%0D%0A%20%2F*%20Style%20Definitions%20*%2F%0D%0Ap.MsoNormal%2C%20li.MsoNormal%2C%20div.MsoNormal%0D%0A%09%7Bmso-style-unhide%3Ano%3B%0D%0A%09mso-style-qformat%3Ayes%3B%0D%0A%09mso-style-parent%3A%22%22%3B%0D%0A%09margin%3A0in%3B%0D%0A%09margin-bottom%3A.0001pt%3B%0D%0A%09mso-pagination%3Awidow-orphan%3B%0D%0A%09font-size%3A12.0pt%3B%0D%0A%09font-family%3ACambria%3B%0D%0A%09mso-fareast-font-family%3A%22%26%2365325%3B%26%2365331%3B%20%26%2326126%3B%26%2326397%3B%22%3B%0D%0A%09mso-bidi-font-family%3A%22Times%20New%20Roman%22%3B%0D%0A%09mso-fareast-language%3AJA%3B%7D%0D%0A.MsoChpDefault%0D%0A%09%7Bmso-style-type%3Aexport-only%3B%0D%0A%09mso-default-props%3Ayes%3B%0D%0A%09font-size%3A10.0pt%3B%0D%0A%09mso-ansi-font-size%3A10.0pt%3B%0D%0A%09mso-bidi-font-size%3A10.0pt%3B%0D%0A%09font-family%3ACambria%3B%0D%0A%09mso-ascii-font-family%3ACambria%3B%0D%0A%09mso-fareast-font-family%3A%22%26%2365325%3B%26%2365331%3B%20%26%2326126%3B%26%2326397%3B%22%3B%0D%0A%09mso-hansi-font-family%3ACambria%3B%7D%0D%0A%40page%20WordSection1%0D%0A%09%7Bsize%3A8.5in%2011.0in%3B%0D%0A%09margin%3A1.0in%201.25in%201.0in%201.25in%3B%0D%0A%09mso-header-margin%3A.5in%3B%0D%0A%09mso-footer-margin%3A.5in%3B%0D%0A%09mso-paper-source%3A0%3B%7D%0D%0Adiv.WordSection1%0D%0A%09%7Bpage%3AWordSection1%3B%7D%0D%0A%2D%2D%3E--></style>\n<span style="font-size: 18px"><em><span style="font-size: 16px">Bring coolers and chairs or blankets to enjoy an evening under the stars.</span></em></span><br />\n
LOCATION:Key Biscayne Presbyterian Church (by the bay) 160 Harbor Drive Key Biscayne\, FL 33149
UID:e.330.3784
SEQUENCE:3
DTSTAMP:20260420T145650Z
URL:https://business.keybiscaynechamber.org/events/details/miami-live-music-by-the-bay-11-03-2012-3784
END:VEVENT

END:VCALENDAR
