BEGIN:VCALENDAR
VERSION:2.0
PRODID:-//ChamberMaster//Event Calendar 2.0//EN
METHOD:PUBLISH
X-PUBLISHED-TTL:P3D
REFRESH-INTERVAL:P3D
CALSCALE:GREGORIAN
BEGIN:VEVENT
DTSTART:20140308T190000Z
DTEND:20140309T030000Z
X-MICROSOFT-CDO-ALLDAYEVENT:FALSE
SUMMARY:MIAMI LIVE
DESCRIPTION:Miami\, Florida \, February 21\, 2014 -- MIAMI LIVE\, a family friendly community party\, will be held on Saturday\, March 8\, 2014 at the Key Biscayne Presbyterian Church's bay front area\, located at 160 Harbor Drive in Key Biscayne. MIAMI LIVE will run from 2 p.m. to 10 p.m.\, with fun activities for the kids including a mega bounce house\, food vendors and art expositors starting at 2 pm. The big PARTY begins at 6 pm with DJ and the live band featuring Brazilian Jazz music by the talented ROSE MAX & RAMATIS\, who will transport the audience to the lively beaches of Rio de Janeiro. Visitors are encouraged to bring a picnic blanket or lawn chair where they can comfortably sit to enjoy the concert. Tickets can be purchased at the door or in advance. Proceeds from the charitable MIAMI LIVE event will benefit local and international Christian Ministries. Tickets cost $5. Parking is free. For more information\, please call Blanca at 786-351-3107 or visit www. kbpc.org.
X-ALT-DESC;FMTTYPE=text/html:Miami\, Florida \, February 21\, 2014 -- MIAMI LIVE\, a family friendly community party\, will be held on Saturday\, March 8\, 2014 at the Key Biscayne Presbyterian Church&#39\;s bay front area\, located at 160 Harbor Drive in Key Biscayne. MIAMI LIVE will run from 2 p.m. to 10 p.m.\, with fun activities for the kids including a mega bounce house\, food vendors and art expositors starting at 2 pm. The big PARTY begins at 6 pm with DJ and the live band featuring Brazilian Jazz music by the talented ROSE MAX &amp\; RAMATIS\, who will transport the audience to the lively beaches of Rio de Janeiro. Visitors are encouraged to bring a picnic blanket or lawn chair where they can comfortably sit to enjoy the concert. Tickets can be purchased at the door or in advance. Proceeds from the charitable MIAMI LIVE event will benefit local and international Christian Ministries. Tickets cost $5. Parking is free. For more information\, please call Blanca at 786-351-3107 or visit www. kbpc.org.
LOCATION:Key Biscayne Presbyterian Church bay front garden at 160 Harbor Drive\, Key Biscayne\, FL 33149
UID:e.330.4058
SEQUENCE:3
DTSTAMP:20260419T150059Z
URL:https://business.keybiscaynechamber.org/events/details/miami-live-03-08-2014-4058
END:VEVENT

END:VCALENDAR
