BEGIN:VCALENDAR
VERSION:2.0
PRODID:-//ChamberMaster//Event Calendar 2.0//EN
METHOD:PUBLISH
X-PUBLISHED-TTL:P3D
REFRESH-INTERVAL:P3D
CALSCALE:GREGORIAN
BEGIN:VEVENT
DTSTART:20140308T190000Z
DTEND:20140309T030000Z
X-MICROSOFT-CDO-ALLDAYEVENT:FALSE
SUMMARY:Miami Live
DESCRIPTION:MIAMI LIVE\, a family friendly community party\, will be held on Saturday\, March 8\, 2014 at the Key Biscayne Presbyterian Church's bayfront area\, located at 160 Harbor Drive in Key Biscayne. MIAMI LIVE will run from 2 p.m. to 10 p.m.\, with fun activities for the kids including a mega bounce house\, food vendors and art and business expositors starting at 2 pm. The big PARTY begins at 6 pm with DJ and the live band featuring Brazilian Jazz music by the talented ROSE MAX & RAMATIS\, who will transport the audience to the lively beaches of Rio de Janeiro. Visitors are encouraged to bring a picnic blanket or lawn chair where they can comfortably sit to enjoy the concert. Tickets can be purchased at the door or in advance. Proceeds from the charitable MIAMI LIVE event will benefit local and international Christian ministries. Tickets cost $5. Parking is free. For more information\, please call Blanca at 786-351-3107\, or visit www. kbpc.org.
X-ALT-DESC;FMTTYPE=text/html:<style type="text/css"><!--\n /* Font Definitions */\n@font-face\n	{font-family:Arial\;\n	panose-1:2 11 6 4 2 2 2 2 2 4\;\n	mso-font-charset:0\;\n	mso-generic-font-family:auto\;\n	mso-font-pitch:variable\;\n	mso-font-signature:-536859905 -1073711037 9 0 511 0\;}\n@font-face\n	{font-family:"MS ??"\;\n	panose-1:0 0 0 0 0 0 0 0 0 0\;\n	mso-font-charset:128\;\n	mso-generic-font-family:roman\;\n	mso-font-format:other\;\n	mso-font-pitch:fixed\;\n	mso-font-signature:1 134676480 16 0 131072 0\;}\n@font-face\n	{font-family:"MS ??"\;\n	panose-1:0 0 0 0 0 0 0 0 0 0\;\n	mso-font-charset:128\;\n	mso-generic-font-family:roman\;\n	mso-font-format:other\;\n	mso-font-pitch:fixed\;\n	mso-font-signature:1 134676480 16 0 131072 0\;}\n@font-face\n	{font-family:Calibri\;\n	panose-1:2 15 5 2 2 2 4 3 2 4\;\n	mso-font-charset:0\;\n	mso-generic-font-family:auto\;\n	mso-font-pitch:variable\;\n	mso-font-signature:-520092929 1073786111 9 0 415 0\;}\n@font-face\n	{font-family:Cambria\;\n	panose-1:2 4 5 3 5 4 6 3 2 4\;\n	mso-font-charset:0\;\n	mso-generic-font-family:auto\;\n	mso-font-pitch:variable\;\n	mso-font-signature:-536870145 1073743103 0 0 415 0\;}\n /* Style Definitions */\np.MsoNormal\, li.MsoNormal\, div.MsoNormal\n	{mso-style-unhide:no\;\n	mso-style-qformat:yes\;\n	mso-style-parent:""\;\n	margin:0in\;\n	margin-bottom:.0001pt\;\n	mso-pagination:widow-orphan\;\n	font-size:12.0pt\;\n	font-family:Cambria\;\n	mso-fareast-font-family:"MS ??"\;\n	mso-bidi-font-family:"Times New Roman"\;\n	mso-fareast-language:JA\;}\n.MsoChpDefault\n	{mso-style-type:export-only\;\n	mso-default-props:yes\;\n	font-size:10.0pt\;\n	mso-ansi-font-size:10.0pt\;\n	mso-bidi-font-size:10.0pt\;\n	font-family:Cambria\;\n	mso-ascii-font-family:Cambria\;\n	mso-fareast-font-family:"MS ??"\;\n	mso-hansi-font-family:Cambria\;}\n@page WordSection1\n	{size:8.5in 11.0in\;\n	margin:1.0in 1.25in 1.0in 1.25in\;\n	mso-header-margin:.5in\;\n	mso-footer-margin:.5in\;\n	mso-paper-source:0\;}\ndiv.WordSection1\n	{page:WordSection1\;}\n--> \n</style>\n<style type="text/css"><!--\n /* Font Definitions */\n@font-face\n	{font-family:"MS ??"\;\n	panose-1:0 0 0 0 0 0 0 0 0 0\;\n	mso-font-charset:128\;\n	mso-generic-font-family:roman\;\n	mso-font-format:other\;\n	mso-font-pitch:fixed\;\n	mso-font-signature:1 134676480 16 0 131072 0\;}\n@font-face\n	{font-family:"Cambria Math"\;\n	panose-1:2 4 5 3 5 4 6 3 2 4\;\n	mso-font-charset:0\;\n	mso-generic-font-family:auto\;\n	mso-font-pitch:variable\;\n	mso-font-signature:3 0 0 0 1 0\;}\n@font-face\n	{font-family:Cambria\;\n	panose-1:2 4 5 3 5 4 6 3 2 4\;\n	mso-font-charset:0\;\n	mso-generic-font-family:auto\;\n	mso-font-pitch:variable\;\n	mso-font-signature:3 0 0 0 1 0\;}\n /* Style Definitions */\np.MsoNormal\, li.MsoNormal\, div.MsoNormal\n	{mso-style-unhide:no\;\n	mso-style-qformat:yes\;\n	mso-style-parent:""\;\n	margin:0in\;\n	margin-bottom:.0001pt\;\n	mso-pagination:widow-orphan\;\n	font-size:12.0pt\;\n	font-family:Cambria\;\n	mso-ascii-font-family:Cambria\;\n	mso-ascii-theme-font:minor-latin\;\n	mso-fareast-font-family:"MS ??"\;\n	mso-fareast-theme-font:minor-fareast\;\n	mso-hansi-font-family:Cambria\;\n	mso-hansi-theme-font:minor-latin\;\n	mso-bidi-font-family:"Times New Roman"\;\n	mso-bidi-theme-font:minor-bidi\;}\n.MsoChpDefault\n	{mso-style-type:export-only\;\n	mso-default-props:yes\;\n	font-family:Cambria\;\n	mso-ascii-font-family:Cambria\;\n	mso-ascii-theme-font:minor-latin\;\n	mso-fareast-font-family:"MS ??"\;\n	mso-fareast-theme-font:minor-fareast\;\n	mso-hansi-font-family:Cambria\;\n	mso-hansi-theme-font:minor-latin\;\n	mso-bidi-font-family:"Times New Roman"\;\n	mso-bidi-theme-font:minor-bidi\;}\n@page WordSection1\n	{size:8.5in 11.0in\;\n	margin:1.0in 1.25in 1.0in 1.25in\;\n	mso-header-margin:.5in\;\n	mso-footer-margin:.5in\;\n	mso-paper-source:0\;}\ndiv.WordSection1\n	{page:WordSection1\;}\n-->\n</style>\n<span style="font-family: Cambria\; font-size: 12pt\; mso-fareast-language: EN-US\; mso-fareast-font-family: &quot\;Times New Roman&quot\;\; mso-ansi-language: EN-US\; mso-bidi-language: AR-SA\; mso-ascii-theme-font: minor-latin\; mso-hansi-theme-font: minor-latin\; mso-bidi-font-family: &quot\;Times New Roman&quot\;\;">MIAMI LIVE\, a family friendly community party\, will be held on Saturday\, March 8\, 2014 at the Key Biscayne Presbyterian Church&#39\;s bayfront area\, located at 160 Harbor Drive in Key Biscayne. MIAMI LIVE will run from 2 p.m. to 10 p.m.\, with fun activities for the kids including a mega bounce house\, food vendors and art and business expositors starting at 2 pm. The big PARTY begins at 6 pm with DJ and the live band featuring Brazilian Jazz music by the talented ROSE MAX &amp\; RAMATIS\, who will transport the audience to the lively beaches of Rio de Janeiro. Visitors are encouraged to bring a picnic blanket or lawn chair where they can comfortably sit to enjoy the concert. Tickets can be purchased at the door or in advance. Proceeds from the charitable MIAMI LIVE event will benefit local and international Christian ministries. Tickets cost $5. Parking is free. For more information\, please call Blanca at 786-351-3107\, or visit www. kbpc.org.</span>
LOCATION:Key Biscayne Presbyterian Church 160 Harbor Drive Key Biscayne\, FL 33149
UID:e.330.4052
SEQUENCE:3
DTSTAMP:20260419T150100Z
URL:https://business.keybiscaynechamber.org/events/details/miami-live-03-08-2014-4052
END:VEVENT

END:VCALENDAR
