BEGIN:VCALENDAR
VERSION:2.0
PRODID:-//ChamberMaster//Event Calendar 2.0//EN
METHOD:PUBLISH
X-PUBLISHED-TTL:P3D
REFRESH-INTERVAL:P3D
CALSCALE:GREGORIAN
BEGIN:VEVENT
DTSTART;VALUE=DATE:20110409
DTEND;VALUE=DATE:20110411
TRANSP:TRANSPARENT
X-MICROSOFT-CDO-ALLDAYEVENT:TRUE
SUMMARY:Miami Kiteboarding Masters 2011
DESCRIPTION:MIAMI KITEBOARDING will host an international kitesurfing competition on APRIL 9th - 10th 2011 in Crandon Park\, Key Biscayne Florida at the North Beach concession.\n	\n		\n	\n		The MIAMI KITEBOARDING MASTERS has been the most widely attended kitesurfing event in the Southern US since 2004.  The event is a full weekend of races and contests\, organized by Miamikiteboarding\, the #1 rated kitesurfing school in Florida\, located in Crandon Park North Beach.\n	\n		The goal of the competition is to promote the sport through races\, kitesurfing clinics open to public\, demonstration of latest in kitesurfing safety and technology.   \n	\n		 \n	\n		To celebrate its 10-year anniversary in 2011\, Miamikiteboarding  is putting together an exceptional world class edition of the event with the participation of  the 2011 World Kiteboarding speed record holder\, the 2010 KPWT Wave World Champion\,  the 2010 USA Champions Man and Woman currently top 5 world-ranked in course racing\, and the 2010  Florida's Best Junior Boys and Girls.
X-ALT-DESC;FMTTYPE=text/html:<div class="Section1">\n	<p class="MsoNormal" style="margin: 0in 0.5in 0pt 0in">\n		<span style="font-size: 12px"><span style="font-family: arial"><span style="color: #333333">MIAMI KITEBOARDING </span><font color="#000000">will host an international kitesurfing competition on APRIL 9<sup>th</sup> - 10<sup>th</sup> 2011 in Crandon Park\, Key Biscayne Florida at the North Beach concession.</font></span></span></p>\n	<p class="MsoNormal" style="margin: 0in 0.5in 0pt 0in">\n		<v:shapetype coordsize="21600\,21600" filled="f" id="_x0000_t75" o:preferrelative="t" o:spt="75" path="m@4@5l@4@11@9@11@9@5xe" stroked="f"><v:stroke joinstyle="miter"></v:stroke><v:formulas><v:f eqn="if lineDrawn pixelLineWidth 0"></v:f><v:f eqn="sum @0 1 0"></v:f><v:f eqn="sum 0 0 @1"></v:f><v:f eqn="prod @2 1 2"></v:f><v:f eqn="prod @3 21600 pixelWidth"></v:f><v:f eqn="prod @3 21600 pixelHeight"></v:f><v:f eqn="sum @0 0 1"></v:f><v:f eqn="prod @6 1 2"></v:f><v:f eqn="prod @7 21600 pixelWidth"></v:f><v:f eqn="sum @8 21600 0"></v:f><v:f eqn="prod @7 21600 pixelHeight"></v:f><v:f eqn="sum @10 21600 0"></v:f></v:formulas><v:path gradientshapeok="t" o:connecttype="rect" o:extrusionok="f"></v:path><o:lock aspectratio="t" v:ext="edit"></o:lock></v:shapetype><v:shape id="_x0000_s1026" strokecolor="#365f91" stroked="t" strokeweight="2.25pt" style="z-index: 251656192\; position: absolute\; margin-top: 200.55pt\; width: 147.65pt\; height: 86.4pt\; margin-left: 335.85pt\; mso-position-horizontal-relative: margin\; mso-position-vertical-relative: margin" type="#_x0000_t75"></v:shape></p>\n	<p class="MsoNormal" style="margin: 0in 0.5in 0pt 0in">\n		<span style="font-size: 12px"><span style="font-family: arial"><v:shape strokecolor="#365f91" stroked="t" strokeweight="2.25pt" style="z-index: 251656192\; position: absolute\; margin-top: 200.55pt\; width: 147.65pt\; height: 86.4pt\; margin-left: 335.85pt\; mso-position-horizontal-relative: margin\; mso-position-vertical-relative: margin" type="#_x0000_t75"><font color="#000000"><v:imagedata cropbottom="3661f" cropleft="3979f" croptop="2126f" o:title="Pack_2" src="file:///C:\\DOCUME~1\\info\\LOCALS~1\\Temp\\msohtmlclip1\\01\\clip_image001.jpg"></v:imagedata><v:shadow offset="6pt\,6pt" on="t" opacity=".5"></v:shadow><w:wrap anchorx="margin" anchory="margin" type="square"></w:wrap></font></v:shape><span style="color: #333333">The MIAMI KITEBOARDING MASTERS has been the most widely attended kitesurfing event in the Southern US since 2004.<span style="mso-spacerun: yes">&nbsp\; </span></span><font color="#000000">The event is a full weekend of races and contests\, o</font><span style="color: #333333">rganized by Miamikiteboarding\, the #1 rated kitesurfing school in Florida\, located in Crandon Park North Beach.</span></span></span></p>\n	<p class="MsoNormal" style="margin: 0in 0.5in 0pt 0in">\n		<span style="font-size: 12px"><span style="font-family: arial"><span style="color: #333333">The goal of the competition is to promote the sport through races\, kitesurfing clinics open to public\, demonstration of latest in kitesurfing safety and technology.<span style="mso-spacerun: yes">&nbsp\;&nbsp\; </span></span></span></span></p>\n	<p class="MsoNormal" style="margin: 0in 0.5in 0pt 0in">\n		<span style="font-size: 12px"><span style="font-family: arial"><span style="color: #333333">&nbsp\;</span></span></span></p>\n	<p class="MsoNormal" style="margin: 0in 0.5in 0pt 0in">\n		<span style="font-size: 12px"><span style="font-family: arial"><span style="color: #333333">To celebrate its 10-year anniversary in 2011\, Miamikiteboarding<span style="mso-spacerun: yes">&nbsp\; </span>is putting together an exceptional world class edition of the event with the participation of<span style="mso-spacerun: yes">&nbsp\; </span>the 2011 World Kiteboarding speed record holder\, the 2010 KPWT Wave World Champion\,<span style="mso-spacerun: yes">&nbsp\; </span>the 2010 USA Champions Man and Woman currently top 5 world-ranked in course racing\, and the 2010<span style="mso-spacerun: yes">&nbsp\; </span>Florida&rsquo\;s Best Junior Boys and Girls.</span></span></span></p>\n</div>\n
LOCATION:Miami Kiteboarding\, 4000 Crandon Boulevard (Crandon Park)\, Key Biscayne\, FL 33149
UID:e.330.3068
SEQUENCE:3
DTSTAMP:20260421T184317Z
URL:https://business.keybiscaynechamber.org/events/details/miami-kiteboarding-masters-2011-04-09-2011-3068
END:VEVENT

END:VCALENDAR
