BEGIN:VCALENDAR
VERSION:2.0
PRODID:-//ChamberMaster//Event Calendar 2.0//EN
METHOD:PUBLISH
X-PUBLISHED-TTL:P3D
REFRESH-INTERVAL:P3D
CALSCALE:GREGORIAN
BEGIN:VEVENT
DTSTART;VALUE=DATE:20110306
DTEND;VALUE=DATE:20110307
TRANSP:TRANSPARENT
X-MICROSOFT-CDO-ALLDAYEVENT:TRUE
SUMMARY:Miami International Regatta
DESCRIPTION:The 38th Annual Miami International Regatta hosted by the Miami Rowing & Watersports Center brings a full day of rowing competition to the Marine Stadium Basin.\n\n\n\nYouth and Adult rowers from the entire state of FL\, New England\, Brasil\, Peru\, and Europe will be competing throughout the day.\n\n\n\nEstimated attendance is 3\,000
X-ALT-DESC;FMTTYPE=text/html:The 38th Annual Miami International Regatta hosted by the Miami Rowing &amp\; Watersports Center brings a full day of rowing competition to the Marine Stadium Basin.\n<br>\n<br>Youth and Adult rowers from the entire state of FL\, New England\, Brasil\, Peru\, and Europe will be competing throughout the day.\n<br>\n<br>Estimated attendance is 3\,000 
LOCATION:3601 Rickenbacker Causeway Virgina Key\, FL 33149
UID:e.330.2464
SEQUENCE:3
DTSTAMP:20260421T201911Z
URL:https://business.keybiscaynechamber.org/events/details/miami-international-regatta-03-06-2011-2464
END:VEVENT

END:VCALENDAR
