BEGIN:VCALENDAR
VERSION:2.0
PRODID:-//ChamberMaster//Event Calendar 2.0//EN
METHOD:PUBLISH
X-PUBLISHED-TTL:P3D
REFRESH-INTERVAL:P3D
CALSCALE:GREGORIAN
BEGIN:VEVENT
DTSTART:20110606T000000Z
DTEND:20110615T035500Z
X-MICROSOFT-CDO-ALLDAYEVENT:FALSE
SUMMARY:Miami Heat games at The Ibis Lounge
DESCRIPTION:Watch your Miami Heat play the Dallas Mavericks for the NBA playoffs.\n\n\n\nSun\, June 5th\n\nTues\, June 7th\n\nThurs\, June 9th\n\nSun\, June 12th if necessary\n\nTues\, June 14th if necesary\n\n\n\n$2.50 Polar Beers during the game
X-ALT-DESC;FMTTYPE=text/html:Watch your Miami Heat play the Dallas Mavericks for the NBA playoffs.<br />\n<br />\nSun\, June 5th<br />\nTues\, June 7th<br />\nThurs\, June 9th<br />\nSun\, June 12th if necessary<br />\nTues\, June 14th if necesary<br />\n<br />\n$2.50 Polar Beers during the game
LOCATION:The Ibis Lounge 200 Crandon Blvd #101 Key Biscayne\, Fl 33149
UID:e.330.3423
SEQUENCE:3
DTSTAMP:20260421T172923Z
URL:https://business.keybiscaynechamber.org/events/details/miami-heat-games-at-the-ibis-lounge-06-05-2011-3423
END:VEVENT

END:VCALENDAR
